Workbook
Name \0: '[1]PNT-QUOT-#3'!#REF!
Name \d: '[2]??-BLDG'!#REF!
Name \e: '[2]??-BLDG'!#REF!
Name \f: '[2]??-BLDG'!#REF!
Name \g: '[2]??-BLDG'!#REF!
Name \h: '[2]??-BLDG'!#REF!
Name \i: '[2]??-BLDG'!#REF!
Name \j: '[2]??-BLDG'!#REF!
Name \k: '[2]??-BLDG'!#REF!
Name \l: '[2]??-BLDG'!#REF!
Name \m: '[2]??-BLDG'!#REF!
Name \n: '[2]??-BLDG'!#REF!
Name \o: '[2]??-BLDG'!#REF!
Name \z: '[1]COAT&WRAP-QIOT-#3'!#REF!
Name _1: #N/A
Name _1000A01: #N/A
Name _2: #N/A
Name _A65700: '[3]MTO REV.2(ARMOR)'!#REF!
Name _A65800: '[3]MTO REV.2(ARMOR)'!#REF!
Name _A66000: '[3]MTO REV.2(ARMOR)'!#REF!
Name _A67000: '[3]MTO REV.2(ARMOR)'!#REF!
Name _A68000: '[3]MTO REV.2(ARMOR)'!#REF!
Name _A70000: '[3]MTO REV.2(ARMOR)'!#REF!
Name _A75000: '[3]MTO REV.2(ARMOR)'!#REF!
Name _A85000: '[3]MTO REV.2(ARMOR)'!#REF!
Name _CON1: #REF!
Name _CON2: #REF!
Name _NET2: #REF!
Name A: '[1]PNT-QUOT-#3'!#REF!
Name A01_: #N/A
Name A01AC: #N/A
Name A01CAT: #N/A
Name A01CODE: #N/A
Name A01DATA: #N/A
Name A01MI: #N/A
Name A01TO: #N/A
Name A60000.: #REF!
Name AA: #REF!
Name AAA: '[4]MTL$-INTER'!#REF!
Name All_Item: #REF!
Name ALPIN: #N/A
Name ALPJYOU: #N/A
Name ALPTOI: #N/A
Name B: '[1]PNT-QUOT-#3'!#REF!
Name BB: #REF!
Name BOQ: #REF!
Name BVCISUMMARY: #REF!
Name CABLE2: '[5]MTO REV.0'!$A$1:$Q$570
Name Category_All: #REF!
Name CATIN: #N/A
Name CATJYOU: #N/A
Name CATREC: #N/A
Name CATSYU: #N/A
Name COAT: '[1]PNT-QUOT-#3'!#REF!
Name COMMON: #REF!
Name CON_EQP_COS: #REF!
Name CON_EQP_COST: #REF!
Name CONST_EQ: #REF!
Name COVER: #REF!
Name CRITINST: #REF!

Sheet Hướng dẫn
A1: Quy trình nhập điểm Tổng kết Học phần TCCN
A2: STT | B2: Bảng tính thao tác | C2: Công việc thực hiện
A3: 1 | B3: Vào bảng tính DANH SÁCH LỚP | C3: Sort theo tên lớp, sau đó chọn toàn bộ MSHS (mã số học sinh) của lớp, nhấn phím Ctrl-C để chép mã số SV
A4: 2 | B4: Đối với SV theo danh sách lớp của Phòng TTGD-CTSV: Vào bảng tính LT va TH TCCN | C4: Chép MSHS vào cột B tương ứng của bảng điểm học phần (Họ và tên học sinh sẽ được truyền vào theo MSHS, cột số thứ tự và tên lớp điền tự động).
C5: Nhập tên học phần; số ĐVHT; Tên của Giảng viên (các ô có nền tương ứng).
C6: Ghi chú: Nhập đúng tên học phần, số đơn vị học trình theo lớp trong bảng tính TÊN HỌC PHẦN
C7: Nhập các điểm thành phần theo từng cột điểm tương ứng
C8: Lưu ý 2: Khi muốn in bảng điểm học phần, nên bỏ phần màu nền.
C9: Lưu ý 3: Đối với SV bảo lưu chỉ cần nhập điểm bảo lưu vào ô Điểm bảo lưu của từng bảng điểm học phần. Các cột còn lại để trống.
A10: 3 | B10: Đối với SV học lại: Vào bảng tính LT va TH TCCN HL | C10: CHÉP TỪ DANH SÁCH HỌC LẠI
A11: 4 | B11: Để thống nhất trong việc quản lý điểm số của HSSV trong toàn trường, sau khi hoàn thành bảng tính, xin Quý Thầy Cô lưu lại file theo định dạng: tenlop_tenhocphan_HK1_NH15-16 và gởi bằng mail cho GVCN, Khoa và Phòng TS-Đào tạo-GTVL (kqht.lytutrong@gmail.com)
B12: Nếu Quý Thầy Cô có vướng mắc gì, xin liên hệ trực tiếp với Phòng TS-Đào tạo-GTVL

Sheet TÊN HỌC PHẦN 15TCCN
A1: QUI ĐỊNH SỐ ĐƠN VỊ HỌC TRÌNH VÀ SỐ CỘT ĐIỂM KIỂM TRA THƯỜNG XUYÊN ; ĐỊNH KỲ (HỆ SỐ 1 & 2) TỐI THIỂU CỦA HỌC KỲ 1 / 2015 - 2016 Bậc đào tạo : Trung cấp Chuyên nghiệp - Khóa 2015 (12+2)
A2: TT | B2: LỚP | C2: TÊN HỌC PHẦN | D2: TỔNG ĐƠN VỊ HỌC TRÌNH | E2: SỐ ĐƠN VỊ HỌC TRÌNH | G2: Số cột điểm KT TX tối thiểu | H2: Số cột điểm KT ĐK tối thiểu | I2: GHI CHÚ
E3: Lý thuyết | F3: Thực hành
A4: 1 | B4: 15 TN - Đ | C4: ANH VĂN 1 | D4: =E4+F4 -> 4 | E4: 4 | G4: 1 | H4: 2
C5: KỸ NĂNG GIAO TIẾP | D5: =E5+F5 -> 2 | E5: 2 | G5: 1 | H5: 1
C6: GIÁO DỤC THỂ CHẤT 1 | D6: =E6+F6 -> 1 | E6: 1 | G6: 1 | H6: 1
C7: GIÁO DỤC CHÍNH TRỊ | D7: =E7+F7 -> 5 | E7: 5 | G7: 1 | H7: 2
C8: PHÁP LUẬT | D8: =E8+F8 -> 2 | E8: 2 | G8: 1 | H8: 1
C9: KHÍ CỤ ĐIỆN | D9: =E9+F9 -> 2 | E9: 2 | G9: 1 | H9: 1
C10: MÁY ĐIỆN | D10: =E10+F10 -> 4 | E10: 4 | G10: 1 | H10: 2
C11: MẠCH ĐIỆN | D11: =E11+F11 -> 4 | E11: 4 | G11: 1 | H11: 2
C12: AN TOÀN ĐIỆN | D12: =E12+F12 -> 2 | E12: 2 | G12: 1 | H12: 1
C13: VẼ KỸ THUẬT | D13: =E13+F13 -> 2 | E13: 2 | G13: 1 | H13: 1
C14: TT ĐO LƯỜNG VÀ MẠCH ĐIỆN | D14: =E14+F14 -> 1 | F14: 1 | G14: 1 | H14: 1
A15: 2 | B15: 15 TN-NL | C15: ANH VĂN 1 | D15: =E15+F15 -> 4 | E15: 4 | G15: 1 | H15: 2
C16: KỸ NĂNG GIAO TIẾP | D16: =E16+F16 -> 2 | E16: 2 | G16: 1 | H16: 1
C17: GIÁO DỤC THỂ CHẤT 1 | D17: =E17+F17 -> 1 | E17: 1 | G17: 1 | H17: 1
C18: GIÁO DỤC CHÍNH TRỊ | D18: =E18+F18 -> 5 | E18: 5 | G18: 1 | H18: 2
C19: PHÁP LUẬT | D19: =E19+F19 -> 2 | E19: 2 | G19: 1 | H19: 1
C20: AN TOÀN VÀ MÔI TRƯỜNG CÔNG NGHIỆP | D20: =E20+F20 -> 2 | E20: 2 | G20: 1 | H20: 1
C21: KỸ THUẬT ĐIỆN | D21: =E21+F21 -> 3 | E21: 3 | G21: 1 | H21: 1
C22: KỸ THUẬT NHIỆT | D22: =E22+F22 -> 4 | E22: 4 | G22: 1 | H22: 2
C23: KỸ THUẬT LẠNH | D23: =E23+F23 -> 3 | E23: 3 | G23: 1 | H23: 1
C24: VẼ KỸ THUẬT | D24: =E24+F24 -> 2 | E24: 2 | G24: 1 | H24: 1
C25: TT NGUỘI | D25: =E25+F25 -> 1 | F25: 1 | G25: 1 | H25: 1
C26: TT HÀN | D26: =E26+F26 -> 1 | F26: 1 | G26: 1 | H26: 1
A27: 3 | B27: 15 TN -CK | C27: ANH VĂN 1 | D27: =E27+F27 -> 4 | E27: 4 | G27: 1 | H27: 2
C28: KỸ NĂNG GIAO TIẾP | D28: =E28+F28 -> 2 | E28: 2 | G28: 1 | H28: 1
C29: GIÁO DỤC THỂ CHẤT 1 | D29: =E29+F29 -> 1 | E29: 1 | G29: 1 | H29: 1
C30: GIÁO DỤC CHÍNH TRỊ | D30: =E30+F30 -> 5 | E30: 5 | G30: 1 | H30: 2
C31: PHÁP LUẬT | D31: =E31+F31 -> 2 | E31: 2 | G31: 1 | H31: 1
C32: AN TOÀN MÔI TRƯỜNG VÀ CÔNG NGHIỆP | D32: =E32+F32 -> 2 | E32: 2 | G32: 1 | H32: 1
C33: VẼ KỸ THUẬT | D33: =E33+F33 -> 3 | E33: 3 | G33: 1 | H33: 1
C34: CƠ LÝ THUYẾT | D34: =E34+F34 -> 3 | E34: 3 | G34: 1 | H34: 1
C35: TIN HỌC CƠ BẢN | D35: =E35+F35 -> 4 | E35: 4 | G35: 1 | H35: 2
C36: TT NGUỘI | D36: =E36+F36 -> 2 | F36: 2 | G36: 1 | H36: 1
A37: 4 | B37: 15 TN - Ô | C37: ANH VĂN 1 | D37: =E37+F37 -> 4 | E37: 4 | G37: 1 | H37: 2
C38: KỸ NĂNG GIAO TIẾP | D38: =E38+F38 -> 2 | E38: 2 | G38: 1 | H38: 1
C39: GIÁO DỤC THỂ CHẤT 1 | D39: =E39+F39 -> 1 | E39: 1 | G39: 1 | H39: 1
C40: GIÁO DỤC CHÍNH TRỊ | D40: =E40+F40 -> 5 | E40: 5 | G40: 1 | H40: 2
...

Sheet DANH SÁCH LỚP
A1: STT | B1: MSHS | C1: Họ | D1: Tên | E1: Ngày sinh | F1: Lớp | G1: Phái | H1: Hệ | I1: DANH SÁCH DOWN TỪ PM NGÀY 05/01/2016 | J1: =MAX(A:A) -> 80
A2: 1 | B2: 15002985 | C2: Mai Văn | D2: An | E2: 10/09/1997 | F2: 15TN-Đ | G2: Nam | I2: 12+2
A3: 2 | B3: 15003445 | C3: Nguyễn Ngọc | D3: Đạt | E3: 08/01/1992 | F3: 15TN-Đ | G3: Nam | I3: "
A4: 3 | B4: 15003220 | C4: Lê Văn | D4: Dỉ | E4: 01/10/1997 | F4: 15TN-Đ | G4: Nam | I4: "
A5: 4 | B5: 15003421 | C5: Hoàng Ngọc | D5: Đô | E5: 15/10/1996 | F5: 15TN-Đ | G5: Nam | I5: "
A6: 5 | B6: 15003183 | C6: Nguyễn Đăng | D6: Dũng | E6: 06/01/1996 | F6: 15TN-Đ | G6: Nam | I6: "
A7: 6 | B7: 15003475 | C7: Đặng Hữu | D7: Hiệp | E7: 13/01/1997 | F7: 15TN-Đ | G7: Nam | I7: "
A8: 7 | B8: 15001407 | C8: Võ Minh | D8: Hiếu | E8: 26/04/1992 | F8: 15TN-Đ | G8: Nam | I8: "
A9: 8 | B9: 15002036 | C9: Phan Hoằng | D9: Hưng | E9: 09/09/1996 | F9: 15TN-Đ | G9: Nam | I9: "
A10: 9 | B10: 15002998 | C10: Trần Quang | D10: Hưng | E10: 08/12/1994 | F10: 15TN-Đ | G10: Nam | I10: "
A11: 10 | B11: 15003249 | C11: Nguyễn Xuân | D11: Hưởng | E11: 03/02/1992 | F11: 15TN-Đ | G11: Nam | I11: "
A12: 11 | B12: 15003495 | C12: Huỳnh Trung | D12: Huy | E12: 10/08/1997 | F12: 15TN-Đ | G12: Nam | I12: "
A13: 12 | B13: 15003504 | C13: Phạm Tuấn | D13: Kiệt | E13: 17/10/1993 | F13: 15TN-Đ | G13: Nam | I13: "
... A274: 10 | B274: 15002298 | C274: Nguyễn Thanh | D274: Thúy | E274: 05/03/1997 | F274: 15TN-MTT | G274: Nữ | I274: "

Sheet TH TCCN
A1: UBND THÀNH PHỐ HỒ CHÍ MINH | F1: CỘNG HÒA XÃ HỘI CHỦ NGHĨA VIỆT NAM
A2: TRƯỜNG CAO ĐẲNG KỸ THUẬT LÝ TỰ TRỌNG TP. HỒ CHÍ MINH | F2: Độc lập – Tự do – Hạnh phúc
A3: ‾‾‾‾‾‾‾‾‾‾‾‾‾‾‾‾‾‾‾‾‾‾‾‾‾‾‾‾‾‾‾‾‾‾‾‾‾‾‾‾
A4: BẢNG ĐIỂM HỌC PHẦN THỰC HÀNH
A5: =IF(OR(B12="",C6="",J6="",I119=""),"Số liệu chỉ hiển thị khi thông tin Tên HP, số ĐVHT, Tên Giảng viên đã được điền đầy đủ","") -> Số liệu chỉ hiển thị khi thông tin Tên HP, số ĐVHT, Tên Giảng viên đã được điền đầy đủ
B6: HỌC PHẦN: | H6: Số ĐVHT: | K6: Lớp: | L6: =IF(ISNA(VLOOKUP($B12,'DANH SÁCH LỚP'!$B$2:$F$968,5,FALSE))=TRUE,"",VLOOKUP($B12,'DANH SÁCH LỚP'!$B$2:$F$968,5,FALSE))
C7: HỌC KỲ: | D7: I | F7: NĂM HỌC: 2015 - 2016 | L7: Số tiết vắng tính theo 1 ĐVHT = 30 tiết
A8: TT | B8: MSHS | C8: Họ tên học sinh | E8: Điểm bảo lưu | F8: Điểm kiểm tra | L8: Điểm TB | M8: Số tiết đã vắng | N8: Xét điều kiện dự thi | O8: Điểm Thi KTHP | P8: Điểm HP | Q8: XL lần I | R8: Đánh Giá HP
F10: Thường xuyên Hệ số 1 | I10: Định kỳ Hệ số 2
A12: =IF(B12="","",SUBTOTAL(3,$B$12:B12)) | C12: =IF(B12="","",IF(ISNA(VLOOKUP($B12,'DANH SÁCH LỚP'!$B$2:$D$968,2,FALSE))=TRUE,"",VLOOKUP($B12,'DANH SÁCH LỚP'!$B$2:$D$968,2,FALSE))) | D12: =IF(C12="","",IF(ISNA(VLOOKUP($B12,'DANH SÁCH LỚP'!$B$2:$D$968,3,FALSE))=TRUE,"",VLOOKUP($B12,'DANH SÁCH LỚP'!$B$2:$D$968,3,FALSE))) | L12: =IF(OR(B12="",$C$6="",$J$6="",$I$119=""),"",IF(ISNUMBER(E12)=TRUE,"",IF((COUNT(F12:K12))=0,0,ROUND((SUM(F12:H12)+2*SUM(I12:K12))/(COUNT(F12:H12)+2*COUNT(I12:K12)),1)))) | N12: =IF(OR(B12="",$C$6="",$J$6="",$I$119=""),"",IF(OR(L12<3,M12/($J$6*30)>0.2),"Cấm thi","")) | P12: =IF(OR(B12="",$C$6="",$J$6="",$I$119=""),"",IF(ISNUMBER(E12)=TRUE,E12,ROUND((L12*0.4+O12*0.6),1))) | Q12: =IF(B12="","",IF(P12="","KXL",IF(P12<4,"Kém",IF(P12<5,"Yếu",IF(P12<6,"TB",IF(P12<7,"TBK",IF(P12<8,"Khá",IF(P12<9,"Giỏi","XS")))))))) | R12: =IF(OR(B12="",$C$6="",$J$6="",$I$119=""),"",IF(AND(O12>=3,P12>=5),"ĐẠT","KĐẠT"))
A13: =IF(B13="","",SUBTOTAL(3,$B$12:B13)) | C13: =IF(B13="","",IF(ISNA(VLOOKUP($B13,'DANH SÁCH LỚP'!$B$2:$D$968,2,FALSE))=TRUE,"",VLOOKUP($B13,'DANH SÁCH LỚP'!$B$2:$D$968,2,FALSE))) | D13: =IF(C13="","",IF(ISNA(VLOOKUP($B13,'DANH SÁCH LỚP'!$B$2:$D$968,3,FALSE))=TRUE,"",VLOOKUP($B13,'DANH SÁCH LỚP'!$B$2:$D$968,3,FALSE))) | L13: =IF(OR(B13="",$C$6="",$J$6="",$I$119=""),"",IF(ISNUMBER(E13)=TRUE,"",IF((COUNT(F13:K13))=0,0,ROUND((SUM(F13:H13)+2*SUM(I13:K13))/(COUNT(F13:H13)+2*COUNT(I13:K13)),1)))) | N13: =IF(OR(B13="",$C$6="",$J$6="",$I$119=""),"",IF(OR(L13<3,M13/($J$6*30)>0.2),"Cấm thi","")) | P13: =IF(OR(B13="",$C$6="",$J$6="",$I$119=""),"",IF(ISNUMBER(E13)=TRUE,E13,ROUND((L13*0.4+O13*0.6),1))) | Q13: =IF(B13="","",IF(P13="","KXL",IF(P13<4,"Kém",IF(P13<5,"Yếu",IF(P13<6,"TB",IF(P13<7,"TBK",IF(P13<8,"Khá",IF(P13<9,"Giỏi","XS")))))))) | R13: =IF(OR(B13="",$C$6="",$J$6="",$I$119=""),"",IF(AND(O13>=3,P13>=5),"ĐẠT","KĐẠT"))
A14: =IF(B14="","",SUBTOTAL(3,$B$12:B14)) | C14: =IF(B14="","",IF(ISNA(VLOOKUP($B14,'DANH SÁCH LỚP'!$B$2:$D$968,2,FALSE))=TRUE,"",VLOOKUP($B14,'DANH SÁCH LỚP'!$B$2:$D$968,2,FALSE))) | D14: =IF(C14="","",IF(ISNA(VLOOKUP($B14,'DANH SÁCH LỚP'!$B$2:$D$968,3,FALSE))=TRUE,"",VLOOKUP($B14,'DANH SÁCH LỚP'!$B$2:$D$968,3,FALSE))) | L14: =IF(OR(B14="",$C$6="",$J$6="",$I$119=""),"",IF(ISNUMBER(E14)=TRUE,"",IF((COUNT(F14:K14))=0,0,ROUND((SUM(F14:H14)+2*SUM(I14:K14))/(COUNT(F14:H14)+2*COUNT(I14:K14)),1)))) | N14: =IF(OR(B14="",$C$6="",$J$6="",$I$119=""),"",IF(OR(L14<3,M14/($J$6*30)>0.2),"Cấm thi","")) | P14: =IF(OR(B14="",$C$6="",$J$6="",$I$119=""),"",IF(ISNUMBER(E14)=TRUE,E14,ROUND((L14*0.4+O14*0.6),1))) | Q14: =IF(B14="","",IF(P14="","KXL",IF(P14<4,"Kém",IF(P14<5,"Yếu",IF(P14<6,"TB",IF(P14<7,"TBK",IF(P14<8,"Khá",IF(P14<9,"Giỏi","XS")))))))) | R14: =IF(OR(B14="",$C$6="",$J$6="",$I$119=""),"",IF(AND(O14>=3,P14>=5),"ĐẠT","KĐẠT"))
A15: =IF(B15="","",SUBTOTAL(3,$B$12:B15)) | C15: =IF(B15="","",IF(ISNA(VLOOKUP($B15,'DANH SÁCH LỚP'!$B$2:$D$968,2,FALSE))=TRUE,"",VLOOKUP($B15,'DANH SÁCH LỚP'!$B$2:$D$968,2,FALSE))) | D15: =IF(C15="","",IF(ISNA(VLOOKUP($B15,'DANH SÁCH LỚP'!$B$2:$D$968,3,FALSE))=TRUE,"",VLOOKUP($B15,'DANH SÁCH LỚP'!$B$2:$D$968,3,FALSE))) | L15: =IF(OR(B15="",$C$6="",$J$6="",$I$119=""),"",IF(ISNUMBER(E15)=TRUE,"",IF((COUNT(F15:K15))=0,0,ROUND((SUM(F15:H15)+2*SUM(I15:K15))/(COUNT(F15:H15)+2*COUNT(I15:K15)),1)))) | N15: =IF(OR(B15="",$C$6="",$J$6="",$I$119=""),"",IF(OR(L15<3,M15/($J$6*30)>0.2),"Cấm thi","")) | P15: =IF(OR(B15="",$C$6="",$J$6="",$I$119=""),"",IF(ISNUMBER(E15)=TRUE,E15,ROUND((L15*0.4+O15*0.6),1))) | Q15: =IF(B15="","",IF(P15="","KXL",IF(P15<4,"Kém",IF(P15<5,"Yếu",IF(P15<6,"TB",IF(P15<7,"TBK",IF(P15<8,"Khá",IF(P15<9,"Giỏi","XS")))))))) | R15: =IF(OR(B15="",$C$6="",$J$6="",$I$119=""),"",IF(AND(O15>=3,P15>=5),"ĐẠT","KĐẠT"))
A16: =IF(B16="","",SUBTOTAL(3,$B$12:B16)) | C16: =IF(B16="","",IF(ISNA(VLOOKUP($B16,'DANH SÁCH LỚP'!$B$2:$D$968,2,FALSE))=TRUE,"",VLOOKUP($B16,'DANH SÁCH LỚP'!$B$2:$D$968,2,FALSE))) | D16: =IF(C16="","",IF(ISNA(VLOOKUP($B16,'DANH SÁCH LỚP'!$B$2:$D$968,3,FALSE))=TRUE,"",VLOOKUP($B16,'DANH SÁCH LỚP'!$B$2:$D$968,3,FALSE))) | L16: =IF(OR(B16="",$C$6="",$J$6="",$I$119=""),"",IF(ISNUMBER(E16)=TRUE,"",IF((COUNT(F16:K16))=0,0,ROUND((SUM(F16:H16)+2*SUM(I16:K16))/(COUNT(F16:H16)+2*COUNT(I16:K16)),1)))) | N16: =IF(OR(B16="",$C$6="",$J$6="",$I$119=""),"",IF(OR(L16<3,M16/($J$6*30)>0.2),"Cấm thi","")) | P16: =IF(OR(B16="",$C$6="",$J$6="",$I$119=""),"",IF(ISNUMBER(E16)=TRUE,E16,ROUND((L16*0.4+O16*0.6),1))) | Q16: =IF(B16="","",IF(P16="","KXL",IF(P16<4,"Kém",IF(P16<5,"Yếu",IF(P16<6,"TB",IF(P16<7,"TBK",IF(P16<8,"Khá",IF(P16<9,"Giỏi","XS")))))))) | R16: =IF(OR(B16="",$C$6="",$J$6="",$I$119=""),"",IF(AND(O16>=3,P16>=5),"ĐẠT","KĐẠT"))
A17: =IF(B17="","",SUBTOTAL(3,$B$12:B17)) | C17: =IF(B17="","",IF(ISNA(VLOOKUP($B17,'DANH SÁCH LỚP'!$B$2:$D$968,2,FALSE))=TRUE,"",VLOOKUP($B17,'DANH SÁCH LỚP'!$B$2:$D$968,2,FALSE))) | D17: =IF(C17="","",IF(ISNA(VLOOKUP($B17,'DANH SÁCH LỚP'!$B$2:$D$968,3,FALSE))=TRUE,"",VLOOKUP($B17,'DANH SÁCH LỚP'!$B$2:$D$968,3,FALSE))) | L17: =IF(OR(B17="",$C$6="",$J$6="",$I$119=""),"",IF(ISNUMBER(E17)=TRUE,"",IF((COUNT(F17:K17))=0,0,ROUND((SUM(F17:H17)+2*SUM(I17:K17))/(COUNT(F17:H17)+2*COUNT(I17:K17)),1)))) | N17: =IF(OR(B17="",$C$6="",$J$6="",$I$119=""),"",IF(OR(L17<3,M17/($J$6*30)>0.2),"Cấm thi","")) | P17: =IF(OR(B17="",$C$6="",$J$6="",$I$119=""),"",IF(ISNUMBER(E17)=TRUE,E17,ROUND((L17*0.4+O17*0.6),1))) | Q17: =IF(B17="","",IF(P17="","KXL",IF(P17<4,"Kém",IF(P17<5,"Yếu",IF(P17<6,"TB",IF(P17<7,"TBK",IF(P17<8,"Khá",IF(P17<9,"Giỏi","XS")))))))) | R17: =IF(OR(B17="",$C$6="",$J$6="",$I$119=""),"",IF(AND(O17>=3,P17>=5),"ĐẠT","KĐẠT"))
A18: =IF(B18="","",SUBTOTAL(3,$B$12:B18)) | C18: =IF(B18="","",IF(ISNA(VLOOKUP($B18,'DANH SÁCH LỚP'!$B$2:$D$968,2,FALSE))=TRUE,"",VLOOKUP($B18,'DANH SÁCH LỚP'!$B$2:$D$968,2,FALSE))) | D18: =IF(C18="","",IF(ISNA(VLOOKUP($B18,'DANH SÁCH LỚP'!$B$2:$D$968,3,FALSE))=TRUE,"",VLOOKUP($B18,'DANH SÁCH LỚP'!$B$2:$D$968,3,FALSE))) | L18: =IF(OR(B18="",$C$6="",$J$6="",$I$119=""),"",IF(ISNUMBER(E18)=TRUE,"",IF((COUNT(F18:K18))=0,0,ROUND((SUM(F18:H18)+2*SUM(I18:K18))/(COUNT(F18:H18)+2*COUNT(I18:K18)),1)))) | N18: =IF(OR(B18="",$C$6="",$J$6="",$I$119=""),"",IF(OR(L18<3,M18/($J$6*30)>0.2),"Cấm thi","")) | P18: =IF(OR(B18="",$C$6="",$J$6="",$I$119=""),"",IF(ISNUMBER(E18)=TRUE,E18,ROUND((L18*0.4+O18*0.6),1))) | Q18: =IF(B18="","",IF(P18="","KXL",IF(P18<4,"Kém",IF(P18<5,"Yếu",IF(P18<6,"TB",IF(P18<7,"TBK",IF(P18<8,"Khá",IF(P18<9,"Giỏi","XS")))))))) | R18: =IF(OR(B18="",$C$6="",$J$6="",$I$119=""),"",IF(AND(O18>=3,P18>=5),"ĐẠT","KĐẠT"))
A19: =IF(B19="","",SUBTOTAL(3,$B$12:B19)) | C19: =IF(B19="","",IF(ISNA(VLOOKUP($B19,'DANH SÁCH LỚP'!$B$2:$D$968,2,FALSE))=TRUE,"",VLOOKUP($B19,'DANH SÁCH LỚP'!$B$2:$D$968,2,FALSE))) | D19: =IF(C19="","",IF(ISNA(VLOOKUP($B19,'DANH SÁCH LỚP'!$B$2:$D$968,3,FALSE))=TRUE,"",VLOOKUP($B19,'DANH SÁCH LỚP'!$B$2:$D$968,3,FALSE))) | L19: =IF(OR(B19="",$C$6="",$J$6="",$I$119=""),"",IF(ISNUMBER(E19)=TRUE,"",IF((COUNT(F19:K19))=0,0,ROUND((SUM(F19:H19)+2*SUM(I19:K19))/(COUNT(F19:H19)+2*COUNT(I19:K19)),1)))) | N19: =IF(OR(B19="",$C$6="",$J$6="",$I$119=""),"",IF(OR(L19<3,M19/($J$6*30)>0.2),"Cấm thi","")) | P19: =IF(OR(B19="",$C$6="",$J$6="",$I$119=""),"",IF(ISNUMBER(E19)=TRUE,E19,ROUND((L19*0.4+O19*0.6),1))) | Q19: =IF(B19="","",IF(P19="","KXL",IF(P19<4,"Kém",IF(P19<5,"Yếu",IF(P19<6,"TB",IF(P19<7,"TBK",IF(P19<8,"Khá",IF(P19<9,"Giỏi","XS")))))))) | R19: =IF(OR(B19="",$C$6="",$J$6="",$I$119=""),"",IF(AND(O19>=3,P19>=5),"ĐẠT","KĐẠT"))
A20: =IF(B20="","",SUBTOTAL(3,$B$12:B20)) | C20: =IF(B20="","",IF(ISNA(VLOOKUP($B20,'DANH SÁCH LỚP'!$B$2:$D$968,2,FALSE))=TRUE,"",VLOOKUP($B20,'DANH SÁCH LỚP'!$B$2:$D$968,2,FALSE))) | D20: =IF(C20="","",IF(ISNA(VLOOKUP($B20,'DANH SÁCH LỚP'!$B$2:$D$968,3,FALSE))=TRUE,"",VLOOKUP($B20,'DANH SÁCH LỚP'!$B$2:$D$968,3,FALSE))) | L20: =IF(OR(B20="",$C$6="",$J$6="",$I$119=""),"",IF(ISNUMBER(E20)=TRUE,"",IF((COUNT(F20:K20))=0,0,ROUND((SUM(F20:H20)+2*SUM(I20:K20))/(COUNT(F20:H20)+2*COUNT(I20:K20)),1)))) | N20: =IF(OR(B20="",$C$6="",$J$6="",$I$119=""),"",IF(OR(L20<3,M20/($J$6*30)>0.2),"Cấm thi","")) | P20: =IF(OR(B20="",$C$6="",$J$6="",$I$119=""),"",IF(ISNUMBER(E20)=TRUE,E20,ROUND((L20*0.4+O20*0.6),1))) | Q20: =IF(B20="","",IF(P20="","KXL",IF(P20<4,"Kém",IF(P20<5,"Yếu",IF(P20<6,"TB",IF(P20<7,"TBK",IF(P20<8,"Khá",IF(P20<9,"Giỏi","XS")))))))) | R20: =IF(OR(B20="",$C$6="",$J$6="",$I$119=""),"",IF(AND(O20>=3,P20>=5),"ĐẠT","KĐẠT"))
A21: =IF(B21="","",SUBTOTAL(3,$B$12:B21)) | C21: =IF(B21="","",IF(ISNA(VLOOKUP($B21,'DANH SÁCH LỚP'!$B$2:$D$968,2,FALSE))=TRUE,"",VLOOKUP($B21,'DANH SÁCH LỚP'!$B$2:$D$968,2,FALSE))) | D21: =IF(C21="","",IF(ISNA(VLOOKUP($B21,'DANH SÁCH LỚP'!$B$2:$D$968,3,FALSE))=TRUE,"",VLOOKUP($B21,'DANH SÁCH LỚP'!$B$2:$D$968,3,FALSE))) | L21: =IF(OR(B21="",$C$6="",$J$6="",$I$119=""),"",IF(ISNUMBER(E21)=TRUE,"",IF((COUNT(F21:K21))=0,0,ROUND((SUM(F21:H21)+2*SUM(I21:K21))/(COUNT(F21:H21)+2*COUNT(I21:K21)),1)))) | N21: =IF(OR(B21="",$C$6="",$J$6="",$I$119=""),"",IF(OR(L21<3,M21/($J$6*30)>0.2),"Cấm thi","")) | P21: =IF(OR(B21="",$C$6="",$J$6="",$I$119=""),"",IF(ISNUMBER(E21)=TRUE,E21,ROUND((L21*0.4+O21*0.6),1))) | Q21: =IF(B21="","",IF(P21="","KXL",IF(P21<4,"Kém",IF(P21<5,"Yếu",IF(P21<6,"TB",IF(P21<7,"TBK",IF(P21<8,"Khá",IF(P21<9,"Giỏi","XS")))))))) | R21: =IF(OR(B21="",$C$6="",$J$6="",$I$119=""),"",IF(AND(O21>=3,P21>=5),"ĐẠT","KĐẠT"))
A22: =IF(B22="","",SUBTOTAL(3,$B$12:B22)) | C22: =IF(B22="","",IF(ISNA(VLOOKUP($B22,'DANH SÁCH LỚP'!$B$2:$D$968,2,FALSE))=TRUE,"",VLOOKUP($B22,'DANH SÁCH LỚP'!$B$2:$D$968,2,FALSE))) | D22: =IF(C22="","",IF(ISNA(VLOOKUP($B22,'DANH SÁCH LỚP'!$B$2:$D$968,3,FALSE))=TRUE,"",VLOOKUP($B22,'DANH SÁCH LỚP'!$B$2:$D$968,3,FALSE))) | L22: =IF(OR(B22="",$C$6="",$J$6="",$I$119=""),"",IF(ISNUMBER(E22)=TRUE,"",IF((COUNT(F22:K22))=0,0,ROUND((SUM(F22:H22)+2*SUM(I22:K22))/(COUNT(F22:H22)+2*COUNT(I22:K22)),1)))) | N22: =IF(OR(B22="",$C$6="",$J$6="",$I$119=""),"",IF(OR(L22<3,M22/($J$6*30)>0.2),"Cấm thi","")) | P22: =IF(OR(B22="",$C$6="",$J$6="",$I$119=""),"",IF(ISNUMBER(E22)=TRUE,E22,ROUND((L22*0.4+O22*0.6),1))) | Q22: =IF(B22="","",IF(P22="","KXL",IF(P22<4,"Kém",IF(P22<5,"Yếu",IF(P22<6,"TB",IF(P22<7,"TBK",IF(P22<8,"Khá",IF(P22<9,"Giỏi","XS")))))))) | R22: =IF(OR(B22="",$C$6="",$J$6="",$I$119=""),"",IF(AND(O22>=3,P22>=5),"ĐẠT","KĐẠT"))
A23: =IF(B23="","",SUBTOTAL(3,$B$12:B23)) | C23: =IF(B23="","",IF(ISNA(VLOOKUP($B23,'DANH SÁCH LỚP'!$B$2:$D$968,2,FALSE))=TRUE,"",VLOOKUP($B23,'DANH SÁCH LỚP'!$B$2:$D$968,2,FALSE))) | D23: =IF(C23="","",IF(ISNA(VLOOKUP($B23,'DANH SÁCH LỚP'!$B$2:$D$968,3,FALSE))=TRUE,"",VLOOKUP($B23,'DANH SÁCH LỚP'!$B$2:$D$968,3,FALSE))) | L23: =IF(OR(B23="",$C$6="",$J$6="",$I$119=""),"",IF(ISNUMBER(E23)=TRUE,"",IF((COUNT(F23:K23))=0,0,ROUND((SUM(F23:H23)+2*SUM(I23:K23))/(COUNT(F23:H23)+2*COUNT(I23:K23)),1)))) | N23: =IF(OR(B23="",$C$6="",$J$6="",$I$119=""),"",IF(OR(L23<3,M23/($J$6*30)>0.2),"Cấm thi","")) | P23: =IF(OR(B23="",$C$6="",$J$6="",$I$119=""),"",IF(ISNUMBER(E23)=TRUE,E23,ROUND((L23*0.4+O23*0.6),1))) | Q23: =IF(B23="","",IF(P23="","KXL",IF(P23<4,"Kém",IF(P23<5,"Yếu",IF(P23<6,"TB",IF(P23<7,"TBK",IF(P23<8,"Khá",IF(P23<9,"Giỏi","XS")))))))) | R23: =IF(OR(B23="",$C$6="",$J$6="",$I$119=""),"",IF(AND(O23>=3,P23>=5),"ĐẠT","KĐẠT"))
... A101: =IF(B101="","",SUBTOTAL(3,$B$12:B101)) | C101: =IF(B101="","",IF(ISNA(VLOOKUP($B101,'DANH SÁCH LỚP'!$B$2:$D$968,2,FALSE))=TRUE,"",VLOOKUP($B101,'DANH SÁCH LỚP'!$B$2:$D$968,2,FALSE))) | D101: =IF(C101="","",IF(ISNA(VLOOKUP($B101,'DANH SÁCH LỚP'!$B$2:$D$968,3,FALSE))=TRUE,"",VLOOKUP($B101,'DANH SÁCH LỚP'!$B$2:$D$968,3,FALSE))) | L101: =IF(OR(B101="",$C$6="",$J$6="",$I$119=""),"",IF(ISNUMBER(E101)=TRUE,"",IF((COUNT(F101:K101))=0,0,ROUND((SUM(F101:H101)+2*SUM(I101:K101))/(COUNT(F101:H101)+2*COUNT(I101:K101)),1)))) | N101: =IF(OR(B101="",$C$6="",$J$6="",$I$119=""),"",IF(OR(L101<3,M101/($J$6*30)>0.2),"Cấm thi","")) | P101: =IF(OR(B101="",$C$6="",$J$6="",$I$119=""),"",IF(ISNUMBER(E101)=TRUE,E101,ROUND((L101*0.4+O101*0.6),1))) | Q101: =IF(B101="","",IF(P101="","KXL",IF(P101<4,"Kém",IF(P101<5,"Yếu",IF(P101<6,"TB",IF(P101<7,"TBK",IF(P101<8,"Khá",IF(P101<9,"Giỏi","XS")))))))) | R101: =IF(OR(B101="",$C$6="",$J$6="",$I$119=""),"",IF(AND(O101>=3,P101>=5),"ĐẠT","KĐẠT"))
A102: Yêu cầu : Khoa niêm yết cho học sinh, lưu Giáo vụ Khoa và nộp bản chính cho Phòng TS-Đào tạo-GTVL (kèm file này).
B103: ="Tổng danh sách có" -> Tổng danh sách có | F103: =": "&IF(MAX($A$12:$A$101)=1,0,MAX($A$12:$A$101))&" SV" -> : 0 SV
B104: ="Tổng số SV có điểm Xuất sắc từ 9 đ đến 10 đ" -> Tổng số SV có điểm Xuất sắc từ 9 đ đến 10 đ | F104: =": "&COUNTIF($Q$12:$Q$101,"XS")&" SV" -> : 0 SV | H104: ="("&IF(B12="",0,ROUND(COUNTIF($Q$12:$Q$101,"XS")*100/MAX($A$12:$A$101),2))&"%" &")" -> (0%) | J104: ="Tổng số SV có điểm >= 5 đ : "&COUNTIF(P12:P101,">=5")&" SV"&" ("&IF(B12="",0,ROUND(COUNTIF(P12:P101,">=5")*100/MAX($A$12:$A$101),2))&"%" &")" -> Tổng số SV có điểm >= 5 đ : 0 SV (0%)
B105: ="Tổng số SV có điểm Giỏi từ 8 đ đến <9 đ" -> Tổng số SV có điểm Giỏi từ 8 đ đến <9 đ | F105: =": "&COUNTIF($Q$12:$Q$101,"Giỏi")&" SV" -> : 0 SV | H105: ="("&IF(B12="",0,ROUND(COUNTIF($Q$12:$Q$101,"Giỏi")*100/MAX($A$12:$A$101),2))&"%" &")" -> (0%)
B106: ="Tổng số SV có điểm Khá từ 7 đ đến <8 đ" -> Tổng số SV có điểm Khá từ 7 đ đến <8 đ | F106: =": "&COUNTIF($Q$12:$Q$101,"Khá")&" SV" -> : 0 SV | H106: ="("&IF(B12="",0,ROUND(COUNTIF($Q$12:$Q$101,"Khá")*100/MAX($A$12:$A$101),2))&"%" &")" -> (0%)
B107: ="Tổng số SV có điểm Trung bình khá từ 6 đ đến <7 đ" -> Tổng số SV có điểm Trung bình khá từ 6 đ đến <7 đ | F107: =": "&COUNTIF($Q$12:$Q$101,"TBK")&" SV" -> : 0 SV | H107: ="("&IF(B12="",0,ROUND(COUNTIF($Q$12:$Q$101,"TBK")*100/MAX($A$12:$A$101),2))&"%" &")" -> (0%)
B108: ="Tổng số SV có điểm Trung bình từ 5 đ đến <6 đ" -> Tổng số SV có điểm Trung bình từ 5 đ đến <6 đ | F108: =": "&COUNTIF($Q$12:$Q$101,"TB")&" SV" -> : 0 SV | H108: ="("&IF(B12="",0,ROUND(COUNTIF($Q$12:$Q$101,"TB")*100/MAX($A$12:$A$101),2))&"%" &")" -> (0%) | J108: ="Tổng số SV có điểm < 5 đ : "&COUNTIF(P12:P101,"<5")&" SV"&" ("&IF(B12="",0,ROUND(COUNTIF(P12:P101,"<5")*100/MAX($A$12:$A$101),2))&"%" &")" -> Tổng số SV có điểm < 5 đ : 0 SV (0%)
B109: ="Tổng số SV có điểm Yếu từ 4 đ đến <5 đ" -> Tổng số SV có điểm Yếu từ 4 đ đến <5 đ | F109: =": "&COUNTIF($Q$12:$Q$101,"Yếu")&" SV" -> : 0 SV | H109: ="("&IF(B12="",0,ROUND(COUNTIF($Q$12:$Q$101,"Yếu")*100/MAX($A$12:$A$101),2))&"%"&")" -> (0%)
B110: ="Tổng số SV có điểm Kém dưới 4 đ" -> Tổng số SV có điểm Kém dưới 4 đ | F110: =": "&COUNTIF($Q$12:$Q$101,"Kém")&" SV" -> : 0 SV | H110: ="("&IF(B12="",0,ROUND(COUNTIF($Q$12:$Q$101,"Kém")*100/MAX($A$12:$A$101),2))&"%"&")" -> (0%)
B111: ="Tổng số SV không xếp loại vì chưa đủ điều kiện" -> Tổng số SV không xếp loại vì chưa đủ điều kiện | F111: =": "&COUNTIF($Q$12:$Q$101,"KXL")&" SV" -> : 0 SV | H111: ="("&IF(B12="",0,ROUND(COUNTIF($Q$12:$Q$101,"KXL")*100/MAX($A$12:$A$101),2))&"%"&")" -> (0%)
A113: TRƯỞNG KHOA | D113: TRƯỞNG BỘ MÔN | I113: GIÁO VIÊN GIẢNG DẠY

Sheet LT TCCN
A1: UBND THÀNH PHỐ HỒ CHÍ MINH | F1: CỘNG HÒA XÃ HỘI CHỦ NGHĨA VIỆT NAM
A2: TRƯỜNG CAO ĐẲNG KỸ THUẬT LÝ TỰ TRỌNG TP. HỒ CHÍ MINH | F2: Độc lập – Tự do – Hạnh phúc
A3: ‾‾‾‾‾‾‾‾‾‾‾‾‾‾‾‾‾‾‾‾‾‾‾‾‾‾‾‾‾‾‾‾‾‾‾‾‾‾‾‾
A4: BẢNG ĐIỂM HỌC PHẦN LÝ THUYẾT
A5: =IF(OR(B12="",C6="",J6="",I120=""),"Số liệu chỉ hiển thị khi thông tin Tên HP, số ĐVHT, Tên Giảng viên đã được điền đầy đủ","")
B6: HỌC PHẦN: | C6: Pháp luật | H6: Số ĐVHT: | J6: 2 | K6: Lớp: | L6: =IF(ISNA(VLOOKUP($B12,'DANH SÁCH LỚP'!$B$2:$F$968,5,FALSE))=TRUE,"",VLOOKUP($B12,'DANH SÁCH LỚP'!$B$2:$F$968,5,FALSE)) -> 15TN-MTT
C7: HỌC KỲ: | D7: I | F7: NĂM HỌC: 2015 - 2016 | L7: Số tiết vắng tính theo 1 ĐVHT = 15 tiết
A8: TT | B8: MSHS | C8: Họ tên học sinh | E8: Điểm bảo lưu | F8: Điểm kiểm tra | L8: Điểm TB | M8: Số tiết đã vắng | N8: Xét điều kiện dự thi | O8: Điểm Thi KTHP | P8: Điểm HP | Q8: XL lần I | R8: Đánh Giá HP
F10: Thường xuyên Hệ số 1 | I10: Định kỳ Hệ số 2
A12: =IF(B12="","",SUBTOTAL(3,$B$12:B12)) -> 1 | B12: 15001286 | C12: =IF(B12="","",IF(ISNA(VLOOKUP($B12,'DANH SÁCH LỚP'!$B$2:$D$968,2,FALSE))=TRUE,"",VLOOKUP($B12,'DANH SÁCH LỚP'!$B$2:$D$968,2,FALSE))) -> Phan Thị Kiều | D12: =IF(C12="","",IF(ISNA(VLOOKUP($B12,'DANH SÁCH LỚP'!$B$2:$D$968,3,FALSE))=TRUE,"",VLOOKUP($B12,'DANH SÁCH LỚP'!$B$2:$D$968,3,FALSE))) -> Anh | G12: 8 | I12: 6.5 | L12: =IF(OR(B12="",$C$6="",$J$6="",$I$120=""),"",IF(ISNUMBER(E12)=TRUE,"",IF((COUNT(F12:K12))=0,0,ROUND((SUM(F12:I12)+2*SUM(I12:K12))/(COUNT(F12:I12)+2*COUNT(I12:K12)),1)))) -> 6.9 | N12: =IF(OR(B12="",$C$6="",$J$6="",$I$120=""),"",IF(OR(L12<3,M12/($J$6*15)>0.2),"Cấm thi","")) | O12: 4.5 | P12: =IF(OR(B12="",$C$6="",$J$6="",$I$120=""),"",IF(ISNUMBER(E12)=TRUE,E12,ROUND((L12*0.4+O12*0.6),1))) -> 5.5 | Q12: =IF(B12="","",IF(P12="","KXL",IF(P12<4,"Kém",IF(P12<5,"Yếu",IF(P12<6,"TB",IF(P12<7,"TBK",IF(P12<8,"Khá",IF(P12<9,"Giỏi","XS")))))))) -> TB | R12: =IF(OR(B12="",$C$6="",$J$6="",$I$120=""),"",IF(AND(O12>=3,P12>=5),"ĐẠT","KĐẠT")) -> ĐẠT
A13: =IF(B13="","",SUBTOTAL(3,$B$12:B13)) -> 2 | B13: 15001889 | C13: =IF(B13="","",IF(ISNA(VLOOKUP($B13,'DANH SÁCH LỚP'!$B$2:$D$968,2,FALSE))=TRUE,"",VLOOKUP($B13,'DANH SÁCH LỚP'!$B$2:$D$968,2,FALSE))) -> Đặng Thị Hà | D13: =IF(C13="","",IF(ISNA(VLOOKUP($B13,'DANH SÁCH LỚP'!$B$2:$D$968,3,FALSE))=TRUE,"",VLOOKUP($B13,'DANH SÁCH LỚP'!$B$2:$D$968,3,FALSE))) -> Nhi | G13: 8 | I13: 6 | L13: =IF(OR(B13="",$C$6="",$J$6="",$I$120=""),"",IF(ISNUMBER(E13)=TRUE,"",IF((COUNT(F13:K13))=0,0,ROUND((SUM(F13:I13)+2*SUM(I13:K13))/(COUNT(F13:I13)+2*COUNT(I13:K13)),1)))) -> 6.5 | N13: =IF(OR(B13="",$C$6="",$J$6="",$I$120=""),"",IF(OR(L13<3,M13/($J$6*15)>0.2),"Cấm thi","")) | O13: 7 | P13: =IF(OR(B13="",$C$6="",$J$6="",$I$120=""),"",IF(ISNUMBER(E13)=TRUE,E13,ROUND((L13*0.4+O13*0.6),1))) -> 6.8 | Q13: =IF(B13="","",IF(P13="","KXL",IF(P13<4,"Kém",IF(P13<5,"Yếu",IF(P13<6,"TB",IF(P13<7,"TBK",IF(P13<8,"Khá",IF(P13<9,"Giỏi","XS")))))))) -> TBK | R13: =IF(OR(B13="",$C$6="",$J$6="",$I$120=""),"",IF(AND(O13>=3,P13>=5),"ĐẠT","KĐẠT")) -> ĐẠT
A14: =IF(B14="","",SUBTOTAL(3,$B$12:B14)) -> 3 | B14: 15003347 | C14: =IF(B14="","",IF(ISNA(VLOOKUP($B14,'DANH SÁCH LỚP'!$B$2:$D$968,2,FALSE))=TRUE,"",VLOOKUP($B14,'DANH SÁCH LỚP'!$B$2:$D$968,2,FALSE))) -> Bùi Thị Kim | D14: =IF(C14="","",IF(ISNA(VLOOKUP($B14,'DANH SÁCH LỚP'!$B$2:$D$968,3,FALSE))=TRUE,"",VLOOKUP($B14,'DANH SÁCH LỚP'!$B$2:$D$968,3,FALSE))) -> Nhung | G14: 8 | I14: 6.7 | L14: =IF(OR(B14="",$C$6="",$J$6="",$I$120=""),"",IF(ISNUMBER(E14)=TRUE,"",IF((COUNT(F14:K14))=0,0,ROUND((SUM(F14:I14)+2*SUM(I14:K14))/(COUNT(F14:I14)+2*COUNT(I14:K14)),1)))) -> 7 | N14: =IF(OR(B14="",$C$6="",$J$6="",$I$120=""),"",IF(OR(L14<3,M14/($J$6*15)>0.2),"Cấm thi","")) | O14: 7 | P14: =IF(OR(B14="",$C$6="",$J$6="",$I$120=""),"",IF(ISNUMBER(E14)=TRUE,E14,ROUND((L14*0.4+O14*0.6),1))) -> 7 | Q14: =IF(B14="","",IF(P14="","KXL",IF(P14<4,"Kém",IF(P14<5,"Yếu",IF(P14<6,"TB",IF(P14<7,"TBK",IF(P14<8,"Khá",IF(P14<9,"Giỏi","XS")))))))) -> Khá | R14: =IF(OR(B14="",$C$6="",$J$6="",$I$120=""),"",IF(AND(O14>=3,P14>=5),"ĐẠT","KĐẠT")) -> ĐẠT
A15: =IF(B15="","",SUBTOTAL(3,$B$12:B15)) -> 4 | B15: 15003477 | C15: =IF(B15="","",IF(ISNA(VLOOKUP($B15,'DANH SÁCH LỚP'!$B$2:$D$968,2,FALSE))=TRUE,"",VLOOKUP($B15,'DANH SÁCH LỚP'!$B$2:$D$968,2,FALSE))) -> Trà | D15: =IF(C15="","",IF(ISNA(VLOOKUP($B15,'DANH SÁCH LỚP'!$B$2:$D$968,3,FALSE))=TRUE,"",VLOOKUP($B15,'DANH SÁCH LỚP'!$B$2:$D$968,3,FALSE))) -> Ny | G15: 6 | I15: 6 | L15: =IF(OR(B15="",$C$6="",$J$6="",$I$120=""),"",IF(ISNUMBER(E15)=TRUE,"",IF((COUNT(F15:K15))=0,0,ROUND((SUM(F15:I15)+2*SUM(I15:K15))/(COUNT(F15:I15)+2*COUNT(I15:K15)),1)))) -> 6 | N15: =IF(OR(B15="",$C$6="",$J$6="",$I$120=""),"",IF(OR(L15<3,M15/($J$6*15)>0.2),"Cấm thi","")) | O15: 0 | P15: =IF(OR(B15="",$C$6="",$J$6="",$I$120=""),"",IF(ISNUMBER(E15)=TRUE,E15,ROUND((L15*0.4+O15*0.6),1))) -> 2.4 | Q15: =IF(B15="","",IF(P15="","KXL",IF(P15<4,"Kém",IF(P15<5,"Yếu",IF(P15<6,"TB",IF(P15<7,"TBK",IF(P15<8,"Khá",IF(P15<9,"Giỏi","XS")))))))) -> Kém | R15: =IF(OR(B15="",$C$6="",$J$6="",$I$120=""),"",IF(AND(O15>=3,P15>=5),"ĐẠT","KĐẠT")) -> KĐẠT
A16: =IF(B16="","",SUBTOTAL(3,$B$12:B16)) -> 5 | B16: 15003025 | C16: =IF(B16="","",IF(ISNA(VLOOKUP($B16,'DANH SÁCH LỚP'!$B$2:$D$968,2,FALSE))=TRUE,"",VLOOKUP($B16,'DANH SÁCH LỚP'!$B$2:$D$968,2,FALSE))) -> Nguyễn Thị | D16: =IF(C16="","",IF(ISNA(VLOOKUP($B16,'DANH SÁCH LỚP'!$B$2:$D$968,3,FALSE))=TRUE,"",VLOOKUP($B16,'DANH SÁCH LỚP'!$B$2:$D$968,3,FALSE))) -> Oanh | G16: 0 | I16: 0 | L16: =IF(OR(B16="",$C$6="",$J$6="",$I$120=""),"",IF(ISNUMBER(E16)=TRUE,"",IF((COUNT(F16:K16))=0,0,ROUND((SUM(F16:I16)+2*SUM(I16:K16))/(COUNT(F16:I16)+2*COUNT(I16:K16)),1)))) -> 0 | N16: =IF(OR(B16="",$C$6="",$J$6="",$I$120=""),"",IF(OR(L16<3,M16/($J$6*15)>0.2),"Cấm thi","")) -> Cấm thi | O16: 0 | P16: =IF(OR(B16="",$C$6="",$J$6="",$I$120=""),"",IF(ISNUMBER(E16)=TRUE,E16,ROUND((L16*0.4+O16*0.6),1))) -> 0 | Q16: =IF(B16="","",IF(P16="","KXL",IF(P16<4,"Kém",IF(P16<5,"Yếu",IF(P16<6,"TB",IF(P16<7,"TBK",IF(P16<8,"Khá",IF(P16<9,"Giỏi","XS")))))))) -> Kém | R16: =IF(OR(B16="",$C$6="",$J$6="",$I$120=""),"",IF(AND(O16>=3,P16>=5),"ĐẠT","KĐẠT")) -> KĐẠT
A17: =IF(B17="","",SUBTOTAL(3,$B$12:B17)) -> 6 | B17: 15003325 | C17: =IF(B17="","",IF(ISNA(VLOOKUP($B17,'DANH SÁCH LỚP'!$B$2:$D$968,2,FALSE))=TRUE,"",VLOOKUP($B17,'DANH SÁCH LỚP'!$B$2:$D$968,2,FALSE))) -> Phạm Thị Lệ | D17: =IF(C17="","",IF(ISNA(VLOOKUP($B17,'DANH SÁCH LỚP'!$B$2:$D$968,3,FALSE))=TRUE,"",VLOOKUP($B17,'DANH SÁCH LỚP'!$B$2:$D$968,3,FALSE))) -> Phương | G17: 0 | I17: 6 | L17: =IF(OR(B17="",$C$6="",$J$6="",$I$120=""),"",IF(ISNUMBER(E17)=TRUE,"",IF((COUNT(F17:K17))=0,0,ROUND((SUM(F17:I17)+2*SUM(I17:K17))/(COUNT(F17:I17)+2*COUNT(I17:K17)),1)))) -> 4.5 | N17: =IF(OR(B17="",$C$6="",$J$6="",$I$120=""),"",IF(OR(L17<3,M17/($J$6*15)>0.2),"Cấm thi","")) | O17: 0 | P17: =IF(OR(B17="",$C$6="",$J$6="",$I$120=""),"",IF(ISNUMBER(E17)=TRUE,E17,ROUND((L17*0.4+O17*0.6),1))) -> 1.8 | Q17: =IF(B17="","",IF(P17="","KXL",IF(P17<4,"Kém",IF(P17<5,"Yếu",IF(P17<6,"TB",IF(P17<7,"TBK",IF(P17<8,"Khá",IF(P17<9,"Giỏi","XS")))))))) -> Kém | R17: =IF(OR(B17="",$C$6="",$J$6="",$I$120=""),"",IF(AND(O17>=3,P17>=5),"ĐẠT","KĐẠT")) -> KĐẠT
A18: =IF(B18="","",SUBTOTAL(3,$B$12:B18)) -> 7 | B18: 15000585 | C18: =IF(B18="","",IF(ISNA(VLOOKUP($B18,'DANH SÁCH LỚP'!$B$2:$D$968,2,FALSE))=TRUE,"",VLOOKUP($B18,'DANH SÁCH LỚP'!$B$2:$D$968,2,FALSE))) -> Nguyễn Thị Ái | D18: =IF(C18="","",IF(ISNA(VLOOKUP($B18,'DANH SÁCH LỚP'!$B$2:$D$968,3,FALSE))=TRUE,"",VLOOKUP($B18,'DANH SÁCH LỚP'!$B$2:$D$968,3,FALSE))) -> Thắm | G18: 8 | I18: 7.2 | L18: =IF(OR(B18="",$C$6="",$J$6="",$I$120=""),"",IF(ISNUMBER(E18)=TRUE,"",IF((COUNT(F18:K18))=0,0,ROUND((SUM(F18:I18)+2*SUM(I18:K18))/(COUNT(F18:I18)+2*COUNT(I18:K18)),1)))) -> 7.4 | N18: =IF(OR(B18="",$C$6="",$J$6="",$I$120=""),"",IF(OR(L18<3,M18/($J$6*15)>0.2),"Cấm thi","")) | O18: 6 | P18: =IF(OR(B18="",$C$6="",$J$6="",$I$120=""),"",IF(ISNUMBER(E18)=TRUE,E18,ROUND((L18*0.4+O18*0.6),1))) -> 6.6 | Q18: =IF(B18="","",IF(P18="","KXL",IF(P18<4,"Kém",IF(P18<5,"Yếu",IF(P18<6,"TB",IF(P18<7,"TBK",IF(P18<8,"Khá",IF(P18<9,"Giỏi","XS")))))))) -> TBK | R18: =IF(OR(B18="",$C$6="",$J$6="",$I$120=""),"",IF(AND(O18>=3,P18>=5),"ĐẠT","KĐẠT")) -> ĐẠT
A19: =IF(B19="","",SUBTOTAL(3,$B$12:B19)) -> 8 | B19: 15003375 | C19: =IF(B19="","",IF(ISNA(VLOOKUP($B19,'DANH SÁCH LỚP'!$B$2:$D$968,2,FALSE))=TRUE,"",VLOOKUP($B19,'DANH SÁCH LỚP'!$B$2:$D$968,2,FALSE))) -> Trần Nguyễn Xuân | D19: =IF(C19="","",IF(ISNA(VLOOKUP($B19,'DANH SÁCH LỚP'!$B$2:$D$968,3,FALSE))=TRUE,"",VLOOKUP($B19,'DANH SÁCH LỚP'!$B$2:$D$968,3,FALSE))) -> Thảo | G19: 8 | I19: 7.2 | L19: =IF(OR(B19="",$C$6="",$J$6="",$I$120=""),"",IF(ISNUMBER(E19)=TRUE,"",IF((COUNT(F19:K19))=0,0,ROUND((SUM(F19:I19)+2*SUM(I19:K19))/(COUNT(F19:I19)+2*COUNT(I19:K19)),1)))) -> 7.4 | N19: =IF(OR(B19="",$C$6="",$J$6="",$I$120=""),"",IF(OR(L19<3,M19/($J$6*15)>0.2),"Cấm thi","")) | O19: 6 | P19: =IF(OR(B19="",$C$6="",$J$6="",$I$120=""),"",IF(ISNUMBER(E19)=TRUE,E19,ROUND((L19*0.4+O19*0.6),1))) -> 6.6 | Q19: =IF(B19="","",IF(P19="","KXL",IF(P19<4,"Kém",IF(P19<5,"Yếu",IF(P19<6,"TB",IF(P19<7,"TBK",IF(P19<8,"Khá",IF(P19<9,"Giỏi","XS")))))))) -> TBK | R19: =IF(OR(B19="",$C$6="",$J$6="",$I$120=""),"",IF(AND(O19>=3,P19>=5),"ĐẠT","KĐẠT")) -> ĐẠT
A20: =IF(B20="","",SUBTOTAL(3,$B$12:B20)) -> 9 | B20: 15002298 | C20: =IF(B20="","",IF(ISNA(VLOOKUP($B20,'DANH SÁCH LỚP'!$B$2:$D$968,2,FALSE))=TRUE,"",VLOOKUP($B20,'DANH SÁCH LỚP'!$B$2:$D$968,2,FALSE))) -> Nguyễn Thanh | D20: =IF(C20="","",IF(ISNA(VLOOKUP($B20,'DANH SÁCH LỚP'!$B$2:$D$968,3,FALSE))=TRUE,"",VLOOKUP($B20,'DANH SÁCH LỚP'!$B$2:$D$968,3,FALSE))) -> Thúy | G20: 0 | I20: 0 | L20: =IF(OR(B20="",$C$6="",$J$6="",$I$120=""),"",IF(ISNUMBER(E20)=TRUE,"",IF((COUNT(F20:K20))=0,0,ROUND((SUM(F20:I20)+2*SUM(I20:K20))/(COUNT(F20:I20)+2*COUNT(I20:K20)),1)))) -> 0 | N20: =IF(OR(B20="",$C$6="",$J$6="",$I$120=""),"",IF(OR(L20<3,M20/($J$6*15)>0.2),"Cấm thi","")) -> Cấm thi | O20: 0 | P20: =IF(OR(B20="",$C$6="",$J$6="",$I$120=""),"",IF(ISNUMBER(E20)=TRUE,E20,ROUND((L20*0.4+O20*0.6),1))) -> 0 | Q20: =IF(B20="","",IF(P20="","KXL",IF(P20<4,"Kém",IF(P20<5,"Yếu",IF(P20<6,"TB",IF(P20<7,"TBK",IF(P20<8,"Khá",IF(P20<9,"Giỏi","XS")))))))) -> Kém | R20: =IF(OR(B20="",$C$6="",$J$6="",$I$120=""),"",IF(AND(O20>=3,P20>=5),"ĐẠT","KĐẠT")) -> KĐẠT
A21: =IF(B21="","",SUBTOTAL(3,$B$12:B21)) -> 10 | B21: 15003262 | C21: =IF(B21="","",IF(ISNA(VLOOKUP($B21,'DANH SÁCH LỚP'!$B$2:$D$968,2,FALSE))=TRUE,"",VLOOKUP($B21,'DANH SÁCH LỚP'!$B$2:$D$968,2,FALSE))) -> Trần Thị Thu | D21: =IF(C21="","",IF(ISNA(VLOOKUP($B21,'DANH SÁCH LỚP'!$B$2:$D$968,3,FALSE))=TRUE,"",VLOOKUP($B21,'DANH SÁCH LỚP'!$B$2:$D$968,3,FALSE))) -> Thủy | G21: 8 | I21: 7 | L21: =IF(OR(B21="",$C$6="",$J$6="",$I$120=""),"",IF(ISNUMBER(E21)=TRUE,"",IF((COUNT(F21:K21))=0,0,ROUND((SUM(F21:I21)+2*SUM(I21:K21))/(COUNT(F21:I21)+2*COUNT(I21:K21)),1)))) -> 7.3 | N21: =IF(OR(B21="",$C$6="",$J$6="",$I$120=""),"",IF(OR(L21<3,M21/($J$6*15)>0.2),"Cấm thi","")) | O21: 6 | P21: =IF(OR(B21="",$C$6="",$J$6="",$I$120=""),"",IF(ISNUMBER(E21)=TRUE,E21,ROUND((L21*0.4+O21*0.6),1))) -> 6.5 | Q21: =IF(B21="","",IF(P21="","KXL",IF(P21<4,"Kém",IF(P21<5,"Yếu",IF(P21<6,"TB",IF(P21<7,"TBK",IF(P21<8,"Khá",IF(P21<9,"Giỏi","XS")))))))) -> TBK | R21: =IF(OR(B21="",$C$6="",$J$6="",$I$120=""),"",IF(AND(O21>=3,P21>=5),"ĐẠT","KĐẠT")) -> ĐẠT
A22: =IF(B22="","",SUBTOTAL(3,$B$12:B22)) | C22: =IF(B22="","",IF(ISNA(VLOOKUP($B22,'DANH SÁCH LỚP'!$B$2:$D$968,2,FALSE))=TRUE,"",VLOOKUP($B22,'DANH SÁCH LỚP'!$B$2:$D$968,2,FALSE))) | D22: =IF(C22="","",IF(ISNA(VLOOKUP($B22,'DANH SÁCH LỚP'!$B$2:$D$968,3,FALSE))=TRUE,"",VLOOKUP($B22,'DANH SÁCH LỚP'!$B$2:$D$968,3,FALSE))) | L22: =IF(OR(B22="",$C$6="",$J$6="",$I$120=""),"",IF(ISNUMBER(E22)=TRUE,"",IF((COUNT(F22:K22))=0,0,ROUND((SUM(F22:H22)+2*SUM(I22:K22))/(COUNT(F22:H22)+2*COUNT(I22:K22)),1)))) | N22: =IF(OR(B22="",$C$6="",$J$6="",$I$120=""),"",IF(OR(L22<3,M22/($J$6*15)>0.2),"Cấm thi","")) | P22: =IF(OR(B22="",$C$6="",$J$6="",$I$120=""),"",IF(ISNUMBER(E22)=TRUE,E22,ROUND((L22*0.4+O22*0.6),1))) | Q22: =IF(B22="","",IF(P22="","KXL",IF(P22<4,"Kém",IF(P22<5,"Yếu",IF(P22<6,"TB",IF(P22<7,"TBK",IF(P22<8,"Khá",IF(P22<9,"Giỏi","XS")))))))) | R22: =IF(OR(B22="",$C$6="",$J$6="",$I$120=""),"",IF(AND(O22>=3,P22>=5),"ĐẠT","KĐẠT"))
A23: =IF(B23="","",SUBTOTAL(3,$B$12:B23)) | C23: =IF(B23="","",IF(ISNA(VLOOKUP($B23,'DANH SÁCH LỚP'!$B$2:$D$968,2,FALSE))=TRUE,"",VLOOKUP($B23,'DANH SÁCH LỚP'!$B$2:$D$968,2,FALSE))) | D23: =IF(C23="","",IF(ISNA(VLOOKUP($B23,'DANH SÁCH LỚP'!$B$2:$D$968,3,FALSE))=TRUE,"",VLOOKUP($B23,'DANH SÁCH LỚP'!$B$2:$D$968,3,FALSE))) | L23: =IF(OR(B23="",$C$6="",$J$6="",$I$120=""),"",IF(ISNUMBER(E23)=TRUE,"",IF((COUNT(F23:K23))=0,0,ROUND((SUM(F23:H23)+2*SUM(I23:K23))/(COUNT(F23:H23)+2*COUNT(I23:K23)),1)))) | N23: =IF(OR(B23="",$C$6="",$J$6="",$I$120=""),"",IF(OR(L23<3,M23/($J$6*15)>0.2),"Cấm thi","")) | P23: =IF(OR(B23="",$C$6="",$J$6="",$I$120=""),"",IF(ISNUMBER(E23)=TRUE,E23,ROUND((L23*0.4+O23*0.6),1))) | Q23: =IF(B23="","",IF(P23="","KXL",IF(P23<4,"Kém",IF(P23<5,"Yếu",IF(P23<6,"TB",IF(P23<7,"TBK",IF(P23<8,"Khá",IF(P23<9,"Giỏi","XS")))))))) | R23: =IF(OR(B23="",$C$6="",$J$6="",$I$120=""),"",IF(AND(O23>=3,P23>=5),"ĐẠT","KĐẠT"))
A24: =IF(B24="","",SUBTOTAL(3,$B$12:B24)) | C24: =IF(B24="","",IF(ISNA(VLOOKUP($B24,'DANH SÁCH LỚP'!$B$2:$D$968,2,FALSE))=TRUE,"",VLOOKUP($B24,'DANH SÁCH LỚP'!$B$2:$D$968,2,FALSE))) | D24: =IF(C24="","",IF(ISNA(VLOOKUP($B24,'DANH SÁCH LỚP'!$B$2:$D$968,3,FALSE))=TRUE,"",VLOOKUP($B24,'DANH SÁCH LỚP'!$B$2:$D$968,3,FALSE))) | L24: =IF(OR(B24="",$C$6="",$J$6="",$I$120=""),"",IF(ISNUMBER(E24)=TRUE,"",IF((COUNT(F24:K24))=0,0,ROUND((SUM(F24:H24)+2*SUM(I24:K24))/(COUNT(F24:H24)+2*COUNT(I24:K24)),1)))) | N24: =IF(OR(B24="",$C$6="",$J$6="",$I$120=""),"",IF(OR(L24<3,M24/($J$6*15)>0.2),"Cấm thi","")) | P24: =IF(OR(B24="",$C$6="",$J$6="",$I$120=""),"",IF(ISNUMBER(E24)=TRUE,E24,ROUND((L24*0.4+O24*0.6),1))) | Q24: =IF(B24="","",IF(P24="","KXL",IF(P24<4,"Kém",IF(P24<5,"Yếu",IF(P24<6,"TB",IF(P24<7,"TBK",IF(P24<8,"Khá",IF(P24<9,"Giỏi","XS")))))))) | R24: =IF(OR(B24="",$C$6="",$J$6="",$I$120=""),"",IF(AND(O24>=3,P24>=5),"ĐẠT","KĐẠT"))
A25: =IF(B25="","",SUBTOTAL(3,$B$12:B25)) | C25: =IF(B25="","",IF(ISNA(VLOOKUP($B25,'DANH SÁCH LỚP'!$B$2:$D$968,2,FALSE))=TRUE,"",VLOOKUP($B25,'DANH SÁCH LỚP'!$B$2:$D$968,2,FALSE))) | D25: =IF(C25="","",IF(ISNA(VLOOKUP($B25,'DANH SÁCH LỚP'!$B$2:$D$968,3,FALSE))=TRUE,"",VLOOKUP($B25,'DANH SÁCH LỚP'!$B$2:$D$968,3,FALSE))) | L25: =IF(OR(B25="",$C$6="",$J$6="",$I$120=""),"",IF(ISNUMBER(E25)=TRUE,"",IF((COUNT(F25:K25))=0,0,ROUND((SUM(F25:H25)+2*SUM(I25:K25))/(COUNT(F25:H25)+2*COUNT(I25:K25)),1)))) | N25: =IF(OR(B25="",$C$6="",$J$6="",$I$120=""),"",IF(OR(L25<3,M25/($J$6*15)>0.2),"Cấm thi","")) | P25: =IF(OR(B25="",$C$6="",$J$6="",$I$120=""),"",IF(ISNUMBER(E25)=TRUE,E25,ROUND((L25*0.4+O25*0.6),1))) | Q25: =IF(B25="","",IF(P25="","KXL",IF(P25<4,"Kém",IF(P25<5,"Yếu",IF(P25<6,"TB",IF(P25<7,"TBK",IF(P25<8,"Khá",IF(P25<9,"Giỏi","XS")))))))) | R25: =IF(OR(B25="",$C$6="",$J$6="",$I$120=""),"",IF(AND(O25>=3,P25>=5),"ĐẠT","KĐẠT"))
A26: =IF(B26="","",SUBTOTAL(3,$B$12:B26)) | C26: =IF(B26="","",IF(ISNA(VLOOKUP($B26,'DANH SÁCH LỚP'!$B$2:$D$968,2,FALSE))=TRUE,"",VLOOKUP($B26,'DANH SÁCH LỚP'!$B$2:$D$968,2,FALSE))) | D26: =IF(C26="","",IF(ISNA(VLOOKUP($B26,'DANH SÁCH LỚP'!$B$2:$D$968,3,FALSE))=TRUE,"",VLOOKUP($B26,'DANH SÁCH LỚP'!$B$2:$D$968,3,FALSE))) | L26: =IF(OR(B26="",$C$6="",$J$6="",$I$120=""),"",IF(ISNUMBER(E26)=TRUE,"",IF((COUNT(F26:K26))=0,0,ROUND((SUM(F26:H26)+2*SUM(I26:K26))/(COUNT(F26:H26)+2*COUNT(I26:K26)),1)))) | N26: =IF(OR(B26="",$C$6="",$J$6="",$I$120=""),"",IF(OR(L26<3,M26/($J$6*15)>0.2),"Cấm thi","")) | P26: =IF(OR(B26="",$C$6="",$J$6="",$I$120=""),"",IF(ISNUMBER(E26)=TRUE,E26,ROUND((L26*0.4+O26*0.6),1))) | Q26: =IF(B26="","",IF(P26="","KXL",IF(P26<4,"Kém",IF(P26<5,"Yếu",IF(P26<6,"TB",IF(P26<7,"TBK",IF(P26<8,"Khá",IF(P26<9,"Giỏi","XS")))))))) | R26: =IF(OR(B26="",$C$6="",$J$6="",$I$120=""),"",IF(AND(O26>=3,P26>=5),"ĐẠT","KĐẠT"))
A27: =IF(B27="","",SUBTOTAL(3,$B$12:B27)) | C27: =IF(B27="","",IF(ISNA(VLOOKUP($B27,'DANH SÁCH LỚP'!$B$2:$D$968,2,FALSE))=TRUE,"",VLOOKUP($B27,'DANH SÁCH LỚP'!$B$2:$D$968,2,FALSE))) | D27: =IF(C27="","",IF(ISNA(VLOOKUP($B27,'DANH SÁCH LỚP'!$B$2:$D$968,3,FALSE))=TRUE,"",VLOOKUP($B27,'DANH SÁCH LỚP'!$B$2:$D$968,3,FALSE))) | L27: =IF(OR(B27="",$C$6="",$J$6="",$I$120=""),"",IF(ISNUMBER(E27)=TRUE,"",IF((COUNT(F27:K27))=0,0,ROUND((SUM(F27:H27)+2*SUM(I27:K27))/(COUNT(F27:H27)+2*COUNT(I27:K27)),1)))) | N27: =IF(OR(B27="",$C$6="",$J$6="",$I$120=""),"",IF(OR(L27<3,M27/($J$6*15)>0.2),"Cấm thi","")) | P27: =IF(OR(B27="",$C$6="",$J$6="",$I$120=""),"",IF(ISNUMBER(E27)=TRUE,E27,ROUND((L27*0.4+O27*0.6),1))) | Q27: =IF(B27="","",IF(P27="","KXL",IF(P27<4,"Kém",IF(P27<5,"Yếu",IF(P27<6,"TB",IF(P27<7,"TBK",IF(P27<8,"Khá",IF(P27<9,"Giỏi","XS")))))))) | R27: =IF(OR(B27="",$C$6="",$J$6="",$I$120=""),"",IF(AND(O27>=3,P27>=5),"ĐẠT","KĐẠT"))
A28: =IF(B28="","",SUBTOTAL(3,$B$12:B28)) | C28: =IF(B28="","",IF(ISNA(VLOOKUP($B28,'DANH SÁCH LỚP'!$B$2:$D$968,2,FALSE))=TRUE,"",VLOOKUP($B28,'DANH SÁCH LỚP'!$B$2:$D$968,2,FALSE))) | D28: =IF(C28="","",IF(ISNA(VLOOKUP($B28,'DANH SÁCH LỚP'!$B$2:$D$968,3,FALSE))=TRUE,"",VLOOKUP($B28,'DANH SÁCH LỚP'!$B$2:$D$968,3,FALSE))) | L28: =IF(OR(B28="",$C$6="",$J$6="",$I$120=""),"",IF(ISNUMBER(E28)=TRUE,"",IF((COUNT(F28:K28))=0,0,ROUND((SUM(F28:H28)+2*SUM(I28:K28))/(COUNT(F28:H28)+2*COUNT(I28:K28)),1)))) | N28: =IF(OR(B28="",$C$6="",$J$6="",$I$120=""),"",IF(OR(L28<3,M28/($J$6*15)>0.2),"Cấm thi","")) | P28: =IF(OR(B28="",$C$6="",$J$6="",$I$120=""),"",IF(ISNUMBER(E28)=TRUE,E28,ROUND((L28*0.4+O28*0.6),1))) | Q28: =IF(B28="","",IF(P28="","KXL",IF(P28<4,"Kém",IF(P28<5,"Yếu",IF(P28<6,"TB",IF(P28<7,"TBK",IF(P28<8,"Khá",IF(P28<9,"Giỏi","XS")))))))) | R28: =IF(OR(B28="",$C$6="",$J$6="",$I$120=""),"",IF(AND(O28>=3,P28>=5),"ĐẠT","KĐẠT"))
A29: =IF(B29="","",SUBTOTAL(3,$B$12:B29)) | C29: =IF(B29="","",IF(ISNA(VLOOKUP($B29,'DANH SÁCH LỚP'!$B$2:$D$968,2,FALSE))=TRUE,"",VLOOKUP($B29,'DANH SÁCH LỚP'!$B$2:$D$968,2,FALSE))) | D29: =IF(C29="","",IF(ISNA(VLOOKUP($B29,'DANH SÁCH LỚP'!$B$2:$D$968,3,FALSE))=TRUE,"",VLOOKUP($B29,'DANH SÁCH LỚP'!$B$2:$D$968,3,FALSE))) | L29: =IF(OR(B29="",$C$6="",$J$6="",$I$120=""),"",IF(ISNUMBER(E29)=TRUE,"",IF((COUNT(F29:K29))=0,0,ROUND((SUM(F29:H29)+2*SUM(I29:K29))/(COUNT(F29:H29)+2*COUNT(I29:K29)),1)))) | N29: =IF(OR(B29="",$C$6="",$J$6="",$I$120=""),"",IF(OR(L29<3,M29/($J$6*15)>0.2),"Cấm thi","")) | P29: =IF(OR(B29="",$C$6="",$J$6="",$I$120=""),"",IF(ISNUMBER(E29)=TRUE,E29,ROUND((L29*0.4+O29*0.6),1))) | Q29: =IF(B29="","",IF(P29="","KXL",IF(P29<4,"Kém",IF(P29<5,"Yếu",IF(P29<6,"TB",IF(P29<7,"TBK",IF(P29<8,"Khá",IF(P29<9,"Giỏi","XS")))))))) | R29: =IF(OR(B29="",$C$6="",$J$6="",$I$120=""),"",IF(AND(O29>=3,P29>=5),"ĐẠT","KĐẠT"))
A30: =IF(B30="","",SUBTOTAL(3,$B$12:B30)) | C30: =IF(B30="","",IF(ISNA(VLOOKUP($B30,'DANH SÁCH LỚP'!$B$2:$D$968,2,FALSE))=TRUE,"",VLOOKUP($B30,'DANH SÁCH LỚP'!$B$2:$D$968,2,FALSE))) | D30: =IF(C30="","",IF(ISNA(VLOOKUP($B30,'DANH SÁCH LỚP'!$B$2:$D$968,3,FALSE))=TRUE,"",VLOOKUP($B30,'DANH SÁCH LỚP'!$B$2:$D$968,3,FALSE))) | L30: =IF(OR(B30="",$C$6="",$J$6="",$I$120=""),"",IF(ISNUMBER(E30)=TRUE,"",IF((COUNT(F30:K30))=0,0,ROUND((SUM(F30:H30)+2*SUM(I30:K30))/(COUNT(F30:H30)+2*COUNT(I30:K30)),1)))) | N30: =IF(OR(B30="",$C$6="",$J$6="",$I$120=""),"",IF(OR(L30<3,M30/($J$6*15)>0.2),"Cấm thi","")) | P30: =IF(OR(B30="",$C$6="",$J$6="",$I$120=""),"",IF(ISNUMBER(E30)=TRUE,E30,ROUND((L30*0.4+O30*0.6),1))) | Q30: =IF(B30="","",IF(P30="","KXL",IF(P30<4,"Kém",IF(P30<5,"Yếu",IF(P30<6,"TB",IF(P30<7,"TBK",IF(P30<8,"Khá",IF(P30<9,"Giỏi","XS")))))))) | R30: =IF(OR(B30="",$C$6="",$J$6="",$I$120=""),"",IF(AND(O30>=3,P30>=5),"ĐẠT","KĐẠT"))
A31: =IF(B31="","",SUBTOTAL(3,$B$12:B31)) | C31: =IF(B31="","",IF(ISNA(VLOOKUP($B31,'DANH SÁCH LỚP'!$B$2:$D$968,2,FALSE))=TRUE,"",VLOOKUP($B31,'DANH SÁCH LỚP'!$B$2:$D$968,2,FALSE))) | D31: =IF(C31="","",IF(ISNA(VLOOKUP($B31,'DANH SÁCH LỚP'!$B$2:$D$968,3,FALSE))=TRUE,"",VLOOKUP($B31,'DANH SÁCH LỚP'!$B$2:$D$968,3,FALSE))) | L31: =IF(OR(B31="",$C$6="",$J$6="",$I$120=""),"",IF(ISNUMBER(E31)=TRUE,"",IF((COUNT(F31:K31))=0,0,ROUND((SUM(F31:H31)+2*SUM(I31:K31))/(COUNT(F31:H31)+2*COUNT(I31:K31)),1)))) | N31: =IF(OR(B31="",$C$6="",$J$6="",$I$120=""),"",IF(OR(L31<3,M31/($J$6*15)>0.2),"Cấm thi","")) | P31: =IF(OR(B31="",$C$6="",$J$6="",$I$120=""),"",IF(ISNUMBER(E31)=TRUE,E31,ROUND((L31*0.4+O31*0.6),1))) | Q31: =IF(B31="","",IF(P31="","KXL",IF(P31<4,"Kém",IF(P31<5,"Yếu",IF(P31<6,"TB",IF(P31<7,"TBK",IF(P31<8,"Khá",IF(P31<9,"Giỏi","XS")))))))) | R31: =IF(OR(B31="",$C$6="",$J$6="",$I$120=""),"",IF(AND(O31>=3,P31>=5),"ĐẠT","KĐẠT"))
A32: =IF(B32="","",SUBTOTAL(3,$B$12:B32)) | C32: =IF(B32="","",IF(ISNA(VLOOKUP($B32,'DANH SÁCH LỚP'!$B$2:$D$968,2,FALSE))=TRUE,"",VLOOKUP($B32,'DANH SÁCH LỚP'!$B$2:$D$968,2,FALSE))) | D32: =IF(C32="","",IF(ISNA(VLOOKUP($B32,'DANH SÁCH LỚP'!$B$2:$D$968,3,FALSE))=TRUE,"",VLOOKUP($B32,'DANH SÁCH LỚP'!$B$2:$D$968,3,FALSE))) | L32: =IF(OR(B32="",$C$6="",$J$6="",$I$120=""),"",IF(ISNUMBER(E32)=TRUE,"",IF((COUNT(F32:K32))=0,0,ROUND((SUM(F32:H32)+2*SUM(I32:K32))/(COUNT(F32:H32)+2*COUNT(I32:K32)),1)))) | N32: =IF(OR(B32="",$C$6="",$J$6="",$I$120=""),"",IF(OR(L32<3,M32/($J$6*15)>0.2),"Cấm thi","")) | P32: =IF(OR(B32="",$C$6="",$J$6="",$I$120=""),"",IF(ISNUMBER(E32)=TRUE,E32,ROUND((L32*0.4+O32*0.6),1))) | Q32: =IF(B32="","",IF(P32="","KXL",IF(P32<4,"Kém",IF(P32<5,"Yếu",IF(P32<6,"TB",IF(P32<7,"TBK",IF(P32<8,"Khá",IF(P32<9,"Giỏi","XS")))))))) | R32: =IF(OR(B32="",$C$6="",$J$6="",$I$120=""),"",IF(AND(O32>=3,P32>=5),"ĐẠT","KĐẠT"))
A33: =IF(B33="","",SUBTOTAL(3,$B$12:B33)) | C33: =IF(B33="","",IF(ISNA(VLOOKUP($B33,'DANH SÁCH LỚP'!$B$2:$D$968,2,FALSE))=TRUE,"",VLOOKUP($B33,'DANH SÁCH LỚP'!$B$2:$D$968,2,FALSE))) | D33: =IF(C33="","",IF(ISNA(VLOOKUP($B33,'DANH SÁCH LỚP'!$B$2:$D$968,3,FALSE))=TRUE,"",VLOOKUP($B33,'DANH SÁCH LỚP'!$B$2:$D$968,3,FALSE))) | L33: =IF(OR(B33="",$C$6="",$J$6="",$I$120=""),"",IF(ISNUMBER(E33)=TRUE,"",IF((COUNT(F33:K33))=0,0,ROUND((SUM(F33:H33)+2*SUM(I33:K33))/(COUNT(F33:H33)+2*COUNT(I33:K33)),1)))) | N33: =IF(OR(B33="",$C$6="",$J$6="",$I$120=""),"",IF(OR(L33<3,M33/($J$6*15)>0.2),"Cấm thi","")) | P33: =IF(OR(B33="",$C$6="",$J$6="",$I$120=""),"",IF(ISNUMBER(E33)=TRUE,E33,ROUND((L33*0.4+O33*0.6),1))) | Q33: =IF(B33="","",IF(P33="","KXL",IF(P33<4,"Kém",IF(P33<5,"Yếu",IF(P33<6,"TB",IF(P33<7,"TBK",IF(P33<8,"Khá",IF(P33<9,"Giỏi","XS")))))))) | R33: =IF(OR(B33="",$C$6="",$J$6="",$I$120=""),"",IF(AND(O33>=3,P33>=5),"ĐẠT","KĐẠT"))
... A101: =IF(B101="","",SUBTOTAL(3,$B$12:B101)) | C101: =IF(B101="","",IF(ISNA(VLOOKUP($B101,'DANH SÁCH LỚP'!$B$2:$D$968,2,FALSE))=TRUE,"",VLOOKUP($B101,'DANH SÁCH LỚP'!$B$2:$D$968,2,FALSE))) | D101: =IF(C101="","",IF(ISNA(VLOOKUP($B101,'DANH SÁCH LỚP'!$B$2:$D$968,3,FALSE))=TRUE,"",VLOOKUP($B101,'DANH SÁCH LỚP'!$B$2:$D$968,3,FALSE))) | L101: =IF(OR(B101="",$C$6="",$J$6="",$I$120=""),"",IF(ISNUMBER(E101)=TRUE,"",IF((COUNT(F101:K101))=0,0,ROUND((SUM(F101:H101)+2*SUM(I101:K101))/(COUNT(F101:H101)+2*COUNT(I101:K101)),1)))) | N101: =IF(OR(B101="",$C$6="",$J$6="",$I$120=""),"",IF(OR(L101<3,M101/($J$6*15)>0.2),"Cấm thi","")) | P101: =IF(OR(B101="",$C$6="",$J$6="",$I$120=""),"",IF(ISNUMBER(E101)=TRUE,E101,ROUND((L101*0.4+O101*0.6),1))) | Q101: =IF(B101="","",IF(P101="","KXL",IF(P101<4,"Kém",IF(P101<5,"Yếu",IF(P101<6,"TB",IF(P101<7,"TBK",IF(P101<8,"Khá",IF(P101<9,"Giỏi","XS")))))))) | R101: =IF(OR(B101="",$C$6="",$J$6="",$I$120=""),"",IF(AND(O101>=3,P101>=5),"ĐẠT","KĐẠT"))
A102: Yêu cầu : Khoa niêm yết cho học sinh, lưu Giáo vụ Khoa và nộp bản chính cho PhòngTS-Đào tạo-GTVL (kèm file này).
B103: ="Tổng danh sách có" -> Tổng danh sách có | F103: =": "&IF(MAX($A$12:$A$101)=1,0,MAX($A$12:$A$101))&" SV" -> : 10 SV
B104: ="Tổng số SV có điểm Xuất sắc từ 9 đ đến 10 đ" -> Tổng số SV có điểm Xuất sắc từ 9 đ đến 10 đ | F104: =": "&COUNTIF($Q$12:$Q$101,"XS")&" SV" -> : 0 SV | H104: ="("&IF(B12="",0,ROUND(COUNTIF($Q$12:$Q$101,"XS")*100/MAX($A$12:$A$101),2))&"%" &")" -> (0%) | J104: ="Tổng số SV có điểm >= 5 đ : "&COUNTIF(P12:P101,">=5")&" SV"&" ("&IF(B12="",0,ROUND(COUNTIF(P12:P101,">=5")*100/MAX($A$12:$A$101),2))&"%" &")" -> Tổng số SV có điểm >= 5 đ : 6 SV (60%)
B105: ="Tổng số SV có điểm Giỏi từ 8 đ đến <9 đ" -> Tổng số SV có điểm Giỏi từ 8 đ đến <9 đ | F105: =": "&COUNTIF($Q$12:$Q$101,"Giỏi")&" SV" -> : 0 SV | H105: ="("&IF(B12="",0,ROUND(COUNTIF($Q$12:$Q$101,"Giỏi")*100/MAX($A$12:$A$101),2))&"%" &")" -> (0%)
B106: ="Tổng số SV có điểm Khá từ 7 đ đến <8 đ" -> Tổng số SV có điểm Khá từ 7 đ đến <8 đ | F106: =": "&COUNTIF($Q$12:$Q$101,"Khá")&" SV" -> : 1 SV | H106: ="("&IF(B12="",0,ROUND(COUNTIF($Q$12:$Q$101,"Khá")*100/MAX($A$12:$A$101),2))&"%" &")" -> (10%)
B107: ="Tổng số SV có điểm Trung bình khá từ 6 đ đến <7 đ" -> Tổng số SV có điểm Trung bình khá từ 6 đ đến <7 đ | F107: =": "&COUNTIF($Q$12:$Q$101,"TBK")&" SV" -> : 4 SV | H107: ="("&IF(B12="",0,ROUND(COUNTIF($Q$12:$Q$101,"TBK")*100/MAX($A$12:$A$101),2))&"%" &")" -> (40%)
B108: ="Tổng số SV có điểm Trung bình từ 5 đ đến <6 đ" -> Tổng số SV có điểm Trung bình từ 5 đ đến <6 đ | F108: =": "&COUNTIF($Q$12:$Q$101,"TB")&" SV" -> : 1 SV | H108: ="("&IF(B12="",0,ROUND(COUNTIF($Q$12:$Q$101,"TB")*100/MAX($A$12:$A$101),2))&"%" &")" -> (10%) | J108: ="Tổng số SV có điểm < 5 đ : "&COUNTIF(P12:P101,"<5")&" SV"&" ("&IF(B12="",0,ROUND(COUNTIF(P12:P101,"<5")*100/MAX($A$12:$A$101),2))&"%" &")" -> Tổng số SV có điểm < 5 đ : 4 SV (40%)
B109: ="Tổng số SV có điểm Yếu từ 4 đ đến <5 đ" -> Tổng số SV có điểm Yếu từ 4 đ đến <5 đ | F109: =": "&COUNTIF($Q$12:$Q$101,"Yếu")&" SV" -> : 0 SV | H109: ="("&IF(B12="",0,ROUND(COUNTIF($Q$12:$Q$101,"Yếu")*100/MAX($A$12:$A$101),2))&"%"&")" -> (0%)
...

Sheet DANH SÁCH HỌC LẠI
A1: TRƯỜNG CAO ĐẲNG KỸ THUẬT | G1: CỘNG HÒA XÃ HỘI CHỦ NGHĨA VIỆT NAM
A2: LÝ TỰ TRỌNG TP. HỒ CHÍ MINH | G2: Độc lập - Tự do - Hạnh phúc
A3: PHÒNG TS-ĐT-GTVL
G4: Thành phồ Hồ Chí Minh, ngày tháng năm 2015
A6: DANH SÁCH HỌC TRƯỚC - HỌC LẠI CÁC HỌC PHẦN
A7: HỌC KỲ I NĂM HỌC 2015-2016
A8: CHUNG KHÓA 2015 TRUNG CẤP CHUYÊN NGHIỆP
A10: TT | B10: MSHS | C10: Lớp cũ | D10: Họ và Tên | F10: Lớp học lại | G10: Học phần học lại | H10: Số ĐVHT | J10: Điểm HP
H11: LT | I11: TH | J11: Chính | K11: phụ
A12: 1 | B12: 13B3080075 | C12: 13TC-Đ | D12: NGUYỄN PHI | E12: THƯỜNG | F12: 15TN-Đ | G12: AN TOÀN ĐIỆN | H12: 2
A13: 2 | C13: 14TC-ĐT | D13: NGUYỄN ĐỨC | E13: VIÊN | F13: 15TN-Đ | G13: AN TOÀN ĐIỆN | H13: 2
A14: 3 | B14: 14000193 | C14: 14TC-CKP | D14: THÁI TẤN | E14: TRUNG | F14: 15TN-CK | G14: AN TOÀN VÀ MTCN | H14: 2
A15: 4 | B15: 14000174 | C15: 14TC-CKT | D15: ĐOÀN NGỌC | E15: TRƯỜNG | F15: 15TN-CK | G15: AN TOÀN VÀ MTCN | H15: 2
A16: 5 | C16: 14TC-CKP | D16: NGUYỄN CÔNG | E16: CHÁNH | F16: 15TN-CK | G16: ANH VĂN 1 | H16: 4
A17: 6 | B17: 14000181 | C17: 14TC-CKP | D17: LƯƠNG PHƯỚC | E17: ĐẠO | F17: 15TN-CK | G17: ANH VĂN 1 | H17: 4
A18: 7 | B18: 14000184 | C18: 14TC-CKP | D18: NGUYỄN QUANG | E18: HUY | F18: 15TN-CK | G18: ANH VĂN 1 | H18: 4
A19: 8 | C19: 14TC-CKP | D19: NGUYỄN HOÀNG | E19: NAM | F19: 15TN-CK | G19: ANH VĂN 1 | H19: 4
A20: 9 | C20: 14TC-CKP | D20: TRẦN DƯƠNG MINH | E20: QUÂN | F20: 15TN-CK | G20: ANH VĂN 1 | H20: 4
A21: 10 | B21: 14000147 | C21: 14TC-CKT | D21: HUỲNH TẤN | E21: MẠNH | F21: 15TN-CK | G21: ANH VĂN 1 | H21: 4
A22: 11 | B22: 14000311 | C22: 14TC-MT | D22: TRẦN THỊ PHƯƠNG | E22: DUY | F22: 15TN-MTT | G22: ANH VĂN 1 | H22: 4
A23: 12 | B23: 14000221 | C23: 14TC-Ô1 | D23: LÊ HOÀNG | E23: LONG | F23: 15TN-MTT | G23: ANH VĂN 1 | H23: 4
A24: 13 | B24: 14000092 | C24: 14TC-ĐL | D24: TRẦN VĂN | E24: ĐOAN | F24: 15TN-NL | G24: ANH VĂN 1 | H24: 4
A25: 14 | B25: 14000097 | C25: 14TC-ĐL | D25: HUỲNH THANH | E25: HOÀNG | F25: 15TN-NL | G25: ANH VĂN 1 | H25: 4
A26: 15 | C26: 14TC-ĐL | D26: TRƯƠNG QUỐC | E26: HƯNG | F26: 15TN-NL | G26: ANH VĂN 1 | H26: 4
A27: 16 | C27: 14TC-ĐL | D27: ĐỖ NGUYỄN HOÀNG | E27: LÊ | F27: 15TN-NL | G27: ANH VĂN 1 | H27: 4
A28: 17 | C28: 14TC-ĐL | D28: VŨ QUANG | E28: THIỆN | F28: 15TN-NL | G28: ANH VĂN 1 | H28: 4
A29: 18 | B29: 14000134 | C29: 14TC-ĐL | D29: TRẦN NGỌC | E29: VƯỢNG | F29: 15TN-NL | G29: ANH VĂN 1 | H29: 4
A30: 19 | B30: 13B2250041 | C30: 13TC-Ô | D30: TSẰN TRÂN | E30: LONG | F30: 15TN-Ô | G30: ANH VĂN 1 | H30: 4
A31: 20 | B31: 14B204P001 | C31: 14TC-CKP | D31: NGUYỄN CÔNG | E31: CHÁNH | F31: 15TN-CK | G31: CƠ LÝ THUYẾT | H31: 3
A32: 21 | B32: 1400082 | C32: 14TC-CKP | D32: LÊ TẤN | E32: ĐẠT | F32: 15TN-CK | G32: CƠ LÝ THUYẾT | H32: 2
A33: 22 | B33: 14000193 | C33: 14TC-CKP | D33: THÁI TẤN | E33: TRUNG | F33: 15TN-CK | G33: CƠ LÝ THUYẾT | H33: 2
A34: 23 | B34: 14000174 | C34: 14TC-CKT | D34: ĐOÀN NGỌC | E34: TRƯỜNG | F34: 15TN-CK | G34: CƠ LÝ THUYẾT | H34: 3
A35: 24 | B35: 14000175 | C35: 14TC-CKT | D35: LÊ ĐÌNH | E35: TÚ | F35: 15TN-CK | G35: CƠ LÝ THUYẾT | H35: 3
A36: 25 | C36: 14TC-CKT | D36: LÊ NGỌC | E36: VŨ | F36: 15TN-CK | G36: CƠ LÝ THUYẾT | H36: 3
A37: 26 | B37: 13B2250017 | C37: 13TC-Ô | D37: NGUYỄN TẤN | E37: ĐẢN | F37: 15TN-Ô | G37: CƠ LÝ THUYẾT | H37: 2
A38: 27 | B38: 13B2250083 | C38: 13TC-Ô | D38: VŨ NHẬT | E38: TRƯỜNG | F38: 15TN-Ô | G38: CƠ LÝ THUYẾT | H38: 2
A39: 28 | B39: 14000200 | C39: 14TC-Ô1 | D39: LÊ | E39: ĐĂNG | F39: 15TN-Ô | G39: CƠ LÝ THUYẾT | H39: 2
A40: 29 | B40: 14000213 | C40: 14TC-Ô1 | D40: LÊ NGỌC | E40: HƯNG | F40: 15TN-Ô | G40: CƠ LÝ THUYẾT | H40: 2
A41: 30 | B41: 14000221 | C41: 14TC-Ô1 | D41: LÊ HOÀNG | E41: LONG | F41: 15TN-Ô | G41: CƠ LÝ THUYẾT | H41: 2
A42: 31 | B42: 2250048 | C42: 14TC-Ô1 | D42: TRẦN HOÀNG | E42: MINH | F42: 15TN-Ô | G42: CƠ LÝ THUYẾT | H42: 2
...

Sheet LT TCCN HL
A1: UBND THÀNH PHỐ HỒ CHÍ MINH | E1: CỘNG HÒA XÃ HỘI CHỦ NGHĨA VIỆT NAM
A2: TRƯỜNG CAO ĐẲNG KỸ THUẬT LÝ TỰ TRỌNG TP. HỒ CHÍ MINH | E2: Độc lập – Tự do – Hạnh phúc
A3: ‾‾‾‾‾‾‾‾‾‾‾‾‾‾‾‾‾‾‾‾‾‾‾‾‾‾‾‾‾‾‾‾‾‾‾‾‾‾‾‾
A4: BẢNG ĐIỂM HỌC TRƯỚC, HỌC LẠI HỌC PHẦN LÝ THUYẾT
A5: =IF(OR(B12="",C6="",I6="",K6="",M90=""),"Số liệu chỉ hiển thị khi thông tin Tên HP, số ĐVHT, Tên Lớp mới, Tên Giảng viên đã được điền đầy đủ","")
A6: HỌC PHẦN: | C6: PHÁP LUẬT | G6: Số ĐVHT: | I6: 2 | J6: Lớp: | K6: hoc lai
C7: HỌC KỲ: | D7: I | E7: NĂM HỌC: 2015 - 2016 | L7: Số tiết vắng tính theo 1 ĐVHT = 15 tiết
A8: TT | B8: LỚP CŨ (hoặc MSHS) | C8: Họ tên học sinh | E8: Điểm kiểm tra | K8: Điểm TB | L8: Số tiết đã vắng | M8: Xét điều kiện dự thi | N8: Điểm Thi KTHP (lần 1) | O8: Điểm Thi KTHP (lần 2) | P8: Điểm HP (lần 1) | Q8: Điểm HP (lần 2) | R8: XL lần I | S8: Đánh Giá (lần 1) | T8: Đánh Giá (lần 2)
E10: Thường xuyên Hệ số 1 | H10: Định kỳ Hệ số 2
A12: =IF(B12="","",SUBTOTAL(3,$B$12:B12)) -> 1 | B12: 13TC-Đ | C12: NGUYỄN PHI | D12: THƯỜNG | G12: 6.5 | H12: 6.5 | K12: =IF(OR(B12="",$C$6="",$I$6="",$K$6="",$M$90=""),"",IF((COUNT(E12:J12))=0,0,ROUND((SUM(E12:G12)+2*SUM(H12:J12))/(COUNT(E12:G12)+2*COUNT(H12:J12)),1))) -> 6.5 | M12: =IF(OR(B12="",$C$6="",$I$6="",$M$90=""),"",IF(OR(K12<3,L12/($I$6*15)>0.2),"Cấm thi","")) | N12: 5 | P12: =IF(OR(B12="",$C$6="",$I$6="",$K$6="",$M$90=""),"",ROUND((K12*0.4+N12*0.6),1)) -> 5.6 | Q12: =IF(OR(B12="",$C$6="",$I$6="",$K$6="",$M$90="",O12=""),"",IF(O12>N12,ROUND((K12*0.4+O12*0.6),1),P12)) | R12: =IF(B12="","",IF(P12="","KXL",IF(P12<4,"Kém",IF(P12<5,"Yếu",IF(P12<6,"TB",IF(P12<7,"TBK",IF(P12<8,"Khá",IF(P12<9,"Giỏi","XS")))))))) -> TB | S12: =IF(C12="","",IF(AND(N12>=3,P12>=5),"ĐẠT","KĐẠT")) -> ĐẠT | T12: =IF(OR(C12="",O12=""),"",IF(AND(O12>=3,Q12>=5),"ĐẠT","KĐẠT"))
A13: =IF(B13="","",SUBTOTAL(3,$B$12:B13)) -> 2 | B13: 14TC-ĐL | C13: HUỲNH THƯƠNG | D13: LỘC | G13: 5 | H13: 5 | K13: =IF(OR(B13="",$C$6="",$I$6="",$K$6="",$M$90=""),"",IF((COUNT(E13:J13))=0,0,ROUND((SUM(E13:G13)+2*SUM(H13:J13))/(COUNT(E13:G13)+2*COUNT(H13:J13)),1))) -> 5 | M13: =IF(OR(B13="",$C$6="",$I$6="",$M$90=""),"",IF(OR(K13<3,L13/($I$6*15)>0.2),"Cấm thi","")) | N13: 0 | P13: =IF(OR(B13="",$C$6="",$I$6="",$K$6="",$M$90=""),"",ROUND((K13*0.4+N13*0.6),1)) -> 2 | Q13: =IF(OR(B13="",$C$6="",$I$6="",$K$6="",$M$90="",O13=""),"",IF(O13>N13,ROUND((K13*0.4+O13*0.6),1),P13)) | R13: =IF(B13="","",IF(P13="","KXL",IF(P13<4,"Kém",IF(P13<5,"Yếu",IF(P13<6,"TB",IF(P13<7,"TBK",IF(P13<8,"Khá",IF(P13<9,"Giỏi","XS")))))))) -> Kém | S13: =IF(C13="","",IF(AND(N13>=3,P13>=5),"ĐẠT","KĐẠT")) -> KĐẠT | T13: =IF(OR(C13="",O13=""),"",IF(AND(O13>=3,Q13>=5),"ĐẠT","KĐẠT"))
A14: =IF(B14="","",SUBTOTAL(3,$B$12:B14)) -> 3 | B14: 14TC-ĐT | C14: NGUYỄN THANH | D14: TRUNG | G14: 5 | H14: 5 | K14: =IF(OR(B14="",$C$6="",$I$6="",$K$6="",$M$90=""),"",IF((COUNT(E14:J14))=0,0,ROUND((SUM(E14:G14)+2*SUM(H14:J14))/(COUNT(E14:G14)+2*COUNT(H14:J14)),1))) -> 5 | M14: =IF(OR(B14="",$C$6="",$I$6="",$M$90=""),"",IF(OR(K14<3,L14/($I$6*15)>0.2),"Cấm thi","")) | N14: 0 | P14: =IF(OR(B14="",$C$6="",$I$6="",$K$6="",$M$90=""),"",ROUND((K14*0.4+N14*0.6),1)) -> 2 | Q14: =IF(OR(B14="",$C$6="",$I$6="",$K$6="",$M$90="",O14=""),"",IF(O14>N14,ROUND((K14*0.4+O14*0.6),1),P14)) | R14: =IF(B14="","",IF(P14="","KXL",IF(P14<4,"Kém",IF(P14<5,"Yếu",IF(P14<6,"TB",IF(P14<7,"TBK",IF(P14<8,"Khá",IF(P14<9,"Giỏi","XS")))))))) -> Kém | S14: =IF(C14="","",IF(AND(N14>=3,P14>=5),"ĐẠT","KĐẠT")) -> KĐẠT | T14: =IF(OR(C14="",O14=""),"",IF(AND(O14>=3,Q14>=5),"ĐẠT","KĐẠT"))
A15: =IF(B15="","",SUBTOTAL(3,$B$12:B15)) -> 4 | B15: 14TC-ĐT | C15: THÂN QUANG | D15: VINH | G15: 5 | H15: 5 | K15: =IF(OR(B15="",$C$6="",$I$6="",$K$6="",$M$90=""),"",IF((COUNT(E15:J15))=0,0,ROUND((SUM(E15:G15)+2*SUM(H15:J15))/(COUNT(E15:G15)+2*COUNT(H15:J15)),1))) -> 5 | M15: =IF(OR(B15="",$C$6="",$I$6="",$M$90=""),"",IF(OR(K15<3,L15/($I$6*15)>0.2),"Cấm thi","")) | N15: 0 | P15: =IF(OR(B15="",$C$6="",$I$6="",$K$6="",$M$90=""),"",ROUND((K15*0.4+N15*0.6),1)) -> 2 | Q15: =IF(OR(B15="",$C$6="",$I$6="",$K$6="",$M$90="",O15=""),"",IF(O15>N15,ROUND((K15*0.4+O15*0.6),1),P15)) | R15: =IF(B15="","",IF(P15="","KXL",IF(P15<4,"Kém",IF(P15<5,"Yếu",IF(P15<6,"TB",IF(P15<7,"TBK",IF(P15<8,"Khá",IF(P15<9,"Giỏi","XS")))))))) -> Kém | S15: =IF(C15="","",IF(AND(N15>=3,P15>=5),"ĐẠT","KĐẠT")) -> KĐẠT | T15: =IF(OR(C15="",O15=""),"",IF(AND(O15>=3,Q15>=5),"ĐẠT","KĐẠT"))
A16: =IF(B16="","",SUBTOTAL(3,$B$12:B16)) -> 5 | B16: 14TC-Ô1 | C16: NGUYỄN THÁI | D16: NGUYÊN | G16: 6 | H16: 6 | K16: =IF(OR(B16="",$C$6="",$I$6="",$K$6="",$M$90=""),"",IF((COUNT(E16:J16))=0,0,ROUND((SUM(E16:G16)+2*SUM(H16:J16))/(COUNT(E16:G16)+2*COUNT(H16:J16)),1))) -> 6 | M16: =IF(OR(B16="",$C$6="",$I$6="",$M$90=""),"",IF(OR(K16<3,L16/($I$6*15)>0.2),"Cấm thi","")) | N16: 5.5 | P16: =IF(OR(B16="",$C$6="",$I$6="",$K$6="",$M$90=""),"",ROUND((K16*0.4+N16*0.6),1)) -> 5.7 | Q16: =IF(OR(B16="",$C$6="",$I$6="",$K$6="",$M$90="",O16=""),"",IF(O16>N16,ROUND((K16*0.4+O16*0.6),1),P16)) | R16: =IF(B16="","",IF(P16="","KXL",IF(P16<4,"Kém",IF(P16<5,"Yếu",IF(P16<6,"TB",IF(P16<7,"TBK",IF(P16<8,"Khá",IF(P16<9,"Giỏi","XS")))))))) -> TB | S16: =IF(C16="","",IF(AND(N16>=3,P16>=5),"ĐẠT","KĐẠT")) -> ĐẠT | T16: =IF(OR(C16="",O16=""),"",IF(AND(O16>=3,Q16>=5),"ĐẠT","KĐẠT"))
A17: =IF(B17="","",SUBTOTAL(3,$B$12:B17)) | K17: =IF(OR(B17="",$C$6="",$I$6="",$K$6="",$M$90=""),"",IF((COUNT(E17:J17))=0,0,ROUND((SUM(E17:G17)+2*SUM(H17:J17))/(COUNT(E17:G17)+2*COUNT(H17:J17)),1))) | M17: =IF(OR(B17="",$C$6="",$I$6="",$M$90=""),"",IF(OR(K17<3,L17/($I$6*15)>0.2),"Cấm thi","")) | P17: =IF(OR(B17="",$C$6="",$I$6="",$K$6="",$M$90=""),"",ROUND((K17*0.4+N17*0.6),1)) | Q17: =IF(OR(B17="",$C$6="",$I$6="",$K$6="",$M$90="",O17=""),"",IF(O17>N17,ROUND((K17*0.4+O17*0.6),1),P17)) | R17: =IF(B17="","",IF(P17="","KXL",IF(P17<4,"Kém",IF(P17<5,"Yếu",IF(P17<6,"TB",IF(P17<7,"TBK",IF(P17<8,"Khá",IF(P17<9,"Giỏi","XS")))))))) | S17: =IF(C17="","",IF(AND(N17>=3,P17>=5),"ĐẠT","KĐẠT")) | T17: =IF(OR(C17="",O17=""),"",IF(AND(O17>=3,Q17>=5),"ĐẠT","KĐẠT"))
A18: =IF(B18="","",SUBTOTAL(3,$B$12:B18)) | K18: =IF(OR(B18="",$C$6="",$I$6="",$K$6="",$M$90=""),"",IF((COUNT(E18:J18))=0,0,ROUND((SUM(E18:G18)+2*SUM(H18:J18))/(COUNT(E18:G18)+2*COUNT(H18:J18)),1))) | M18: =IF(OR(B18="",$C$6="",$I$6="",$M$90=""),"",IF(OR(K18<3,L18/($I$6*15)>0.2),"Cấm thi","")) | P18: =IF(OR(B18="",$C$6="",$I$6="",$K$6="",$M$90=""),"",ROUND((K18*0.4+N18*0.6),1)) | Q18: =IF(OR(B18="",$C$6="",$I$6="",$K$6="",$M$90="",O18=""),"",IF(O18>N18,ROUND((K18*0.4+O18*0.6),1),P18)) | R18: =IF(B18="","",IF(P18="","KXL",IF(P18<4,"Kém",IF(P18<5,"Yếu",IF(P18<6,"TB",IF(P18<7,"TBK",IF(P18<8,"Khá",IF(P18<9,"Giỏi","XS")))))))) | S18: =IF(C18="","",IF(AND(N18>=3,P18>=5),"ĐẠT","KĐẠT")) | T18: =IF(OR(C18="",O18=""),"",IF(AND(O18>=3,Q18>=5),"ĐẠT","KĐẠT"))
